BEGIN:VCALENDAR
VERSION:2.0
PRODID:-//spbstu.ru//ical//RU
NAME:Расписание
X-WR-CALNAME:Расписание
TIMEZONE-ID:Europe/Moscow
X-WR-TIMEZONE:Europe/Moscow
BEGIN:VEVENT
UID:zb8j@192.168.245.71:3006
SEQUENCE:0
DTSTAMP:20260421T215141Z
DTSTART:20260406T070000Z
DTEND:20260406T084000Z
SUMMARY:Высшая математика
LOCATION:11 к. 326
END:VEVENT
BEGIN:VEVENT
UID:obiw@192.168.245.71:3006
SEQUENCE:0
DTSTAMP:20260421T215141Z
DTSTART:20260406T090000Z
DTEND:20260406T104000Z
SUMMARY:Высшая математика
LOCATION:11 к. 326
END:VEVENT
BEGIN:VEVENT
UID:n3xh@192.168.245.71:3006
SEQUENCE:0
DTSTAMP:20260421T215141Z
DTSTART:20260406T110000Z
DTEND:20260406T124000Z
SUMMARY:Высшая математика
LOCATION:11 к. 326
END:VEVENT
BEGIN:VEVENT
UID:r08q@192.168.245.71:3006
SEQUENCE:0
DTSTAMP:20260421T215141Z
DTSTART:20260406T130000Z
DTEND:20260406T144000Z
SUMMARY:Высшая математика
LOCATION:1 к. 425
END:VEVENT
BEGIN:VEVENT
UID:9w86@192.168.245.71:3006
SEQUENCE:0
DTSTAMP:20260421T215141Z
DTSTART:20260409T070000Z
DTEND:20260409T084000Z
SUMMARY:Высшая математика
LOCATION:11 к. 326
END:VEVENT
BEGIN:VEVENT
UID:nvjf@192.168.245.71:3006
SEQUENCE:0
DTSTAMP:20260421T215141Z
DTSTART:20260409T090000Z
DTEND:20260409T104000Z
SUMMARY:Высшая математика
LOCATION:11 к. 326
END:VEVENT
BEGIN:VEVENT
UID:5ldr@192.168.245.71:3006
SEQUENCE:0
DTSTAMP:20260421T215141Z
DTSTART:20260410T110000Z
DTEND:20260410T124000Z
SUMMARY:Высшая математика
LOCATION:11 к. 326
END:VEVENT
BEGIN:VEVENT
UID:g4w1@192.168.245.71:3006
SEQUENCE:0
DTSTAMP:20260421T215141Z
DTSTART:20260410T130000Z
DTEND:20260410T144000Z
SUMMARY:Высшая математика
LOCATION:11 к. 326
END:VEVENT
BEGIN:VEVENT
UID:7qus@192.168.245.71:3006
SEQUENCE:0
DTSTAMP:20260421T215141Z
DTSTART:20260410T150000Z
DTEND:20260410T164000Z
SUMMARY:Высшая математика
LOCATION:11 к. 326
END:VEVENT
END:VCALENDAR