BEGIN:VCALENDAR
VERSION:2.0
PRODID:-//spbstu.ru//ical//RU
NAME:Расписание
X-WR-CALNAME:Расписание
TIMEZONE-ID:Europe/Moscow
X-WR-TIMEZONE:Europe/Moscow
BEGIN:VEVENT
UID:ct02@192.168.245.71:3006
SEQUENCE:0
DTSTAMP:20260421T233949Z
DTSTART:20260511T070000Z
DTEND:20260511T084000Z
SUMMARY:Высшая математика
LOCATION:11 к. 326
END:VEVENT
BEGIN:VEVENT
UID:swcx@192.168.245.71:3006
SEQUENCE:0
DTSTAMP:20260421T233949Z
DTSTART:20260511T090000Z
DTEND:20260511T104000Z
SUMMARY:Высшая математика
LOCATION:11 к. 326
END:VEVENT
BEGIN:VEVENT
UID:gpvd@192.168.245.71:3006
SEQUENCE:0
DTSTAMP:20260421T233949Z
DTSTART:20260511T110000Z
DTEND:20260511T124000Z
SUMMARY:Высшая математика
LOCATION:11 к. 326
END:VEVENT
BEGIN:VEVENT
UID:8776@192.168.245.71:3006
SEQUENCE:0
DTSTAMP:20260421T233949Z
DTSTART:20260514T070000Z
DTEND:20260514T084000Z
SUMMARY:Высшая математика
LOCATION:11 к. 326
END:VEVENT
BEGIN:VEVENT
UID:4sju@192.168.245.71:3006
SEQUENCE:0
DTSTAMP:20260421T233949Z
DTSTART:20260514T090000Z
DTEND:20260514T104000Z
SUMMARY:Высшая математика
LOCATION:11 к. 326
END:VEVENT
BEGIN:VEVENT
UID:suwv@192.168.245.71:3006
SEQUENCE:0
DTSTAMP:20260421T233949Z
DTSTART:20260515T110000Z
DTEND:20260515T124000Z
SUMMARY:Высшая математика
LOCATION:11 к. 326
END:VEVENT
END:VCALENDAR