BEGIN:VCALENDAR
VERSION:2.0
PRODID:-//spbstu.ru//ical//RU
NAME:Расписание
X-WR-CALNAME:Расписание
TIMEZONE-ID:Europe/Moscow
X-WR-TIMEZONE:Europe/Moscow
BEGIN:VEVENT
UID:68j3@192.168.245.71:3006
SEQUENCE:0
DTSTAMP:20260425T012918Z
DTSTART:20251021T070000Z
DTEND:20251021T084000Z
SUMMARY:Высшая математика
LOCATION:50 уч.к 1338
END:VEVENT
BEGIN:VEVENT
UID:w05r@192.168.245.71:3006
SEQUENCE:0
DTSTAMP:20260425T012918Z
DTSTART:20251021T090000Z
DTEND:20251021T104000Z
SUMMARY:Высшая математика
LOCATION:50 уч.к 1338
END:VEVENT
BEGIN:VEVENT
UID:vt5e@192.168.245.71:3006
SEQUENCE:0
DTSTAMP:20260425T012918Z
DTSTART:20251021T110000Z
DTEND:20251021T124000Z
SUMMARY:Высшая математика
LOCATION:50 уч.к 1232
END:VEVENT
BEGIN:VEVENT
UID:3mia@192.168.245.71:3006
SEQUENCE:0
DTSTAMP:20260425T012918Z
DTSTART:20251022T090000Z
DTEND:20251022T104000Z
SUMMARY:Высшая математика
LOCATION:50 уч.к 1232
END:VEVENT
BEGIN:VEVENT
UID:7dnt@192.168.245.71:3006
SEQUENCE:0
DTSTAMP:20260425T012918Z
DTSTART:20251022T110000Z
DTEND:20251022T124000Z
SUMMARY:Теория вероятностей
LOCATION:50 уч.к 1239
END:VEVENT
BEGIN:VEVENT
UID:gvog@192.168.245.71:3006
SEQUENCE:0
DTSTAMP:20260425T012918Z
DTSTART:20251024T070000Z
DTEND:20251024T084000Z
SUMMARY:Высшая математика
LOCATION:50 уч.к 1232
END:VEVENT
BEGIN:VEVENT
UID:19s0@192.168.245.71:3006
SEQUENCE:0
DTSTAMP:20260425T012918Z
DTSTART:20251024T090000Z
DTEND:20251024T104000Z
SUMMARY:Высшая математика
LOCATION:50 уч.к 1232
END:VEVENT
BEGIN:VEVENT
UID:buki@192.168.245.71:3006
SEQUENCE:0
DTSTAMP:20260425T012918Z
DTSTART:20251024T110000Z
DTEND:20251024T124000Z
SUMMARY:Теория вероятностей
LOCATION:50 уч.к 1338
END:VEVENT
BEGIN:VEVENT
UID:8nhq@192.168.245.71:3006
SEQUENCE:0
DTSTAMP:20260425T012918Z
DTSTART:20251024T130000Z
DTEND:20251024T144000Z
SUMMARY:Теория вероятностей
LOCATION:50 уч.к 1232
END:VEVENT
BEGIN:VEVENT
UID:ugru@192.168.245.71:3006
SEQUENCE:0
DTSTAMP:20260425T012918Z
DTSTART:20251024T150000Z
DTEND:20251024T164000Z
SUMMARY:Высшая математика
LOCATION:50 уч.к 1251
END:VEVENT
BEGIN:VEVENT
UID:x014@192.168.245.71:3006
SEQUENCE:0
DTSTAMP:20260425T012918Z
DTSTART:20251024T150000Z
DTEND:20251024T164000Z
SUMMARY:Высшая математика
LOCATION:50 уч.к 1251
END:VEVENT
BEGIN:VEVENT
UID:uvlj@192.168.245.71:3006
SEQUENCE:0
DTSTAMP:20260425T012918Z
DTSTART:20251024T150000Z
DTEND:20251024T164000Z
SUMMARY:Высшая математика
LOCATION:50 уч.к 1251
END:VEVENT
BEGIN:VEVENT
UID:817z@192.168.245.71:3006
SEQUENCE:0
DTSTAMP:20260425T012918Z
DTSTART:20251024T150000Z
DTEND:20251024T164000Z
SUMMARY:Высшая математика
LOCATION:50 уч.к 1251
END:VEVENT
BEGIN:VEVENT
UID:1d95@192.168.245.71:3006
SEQUENCE:0
DTSTAMP:20260425T012918Z
DTSTART:20251025T070000Z
DTEND:20251025T084000Z
SUMMARY:Теория вероятностей
LOCATION:50 уч.к 1324
END:VEVENT
BEGIN:VEVENT
UID:c0dq@192.168.245.71:3006
SEQUENCE:0
DTSTAMP:20260425T012918Z
DTSTART:20251025T090000Z
DTEND:20251025T104000Z
SUMMARY:Теория вероятностей
LOCATION:50 уч.к 1324
END:VEVENT
BEGIN:VEVENT
UID:7r1c@192.168.245.71:3006
SEQUENCE:0
DTSTAMP:20260425T012918Z
DTSTART:20251025T110000Z
DTEND:20251025T124000Z
SUMMARY:Теория вероятностей
LOCATION:50 уч.к 1324
END:VEVENT
END:VCALENDAR