BEGIN:VCALENDAR
VERSION:2.0
PRODID:-//spbstu.ru//ical//RU
NAME:Расписание
X-WR-CALNAME:Расписание
TIMEZONE-ID:Europe/Moscow
X-WR-TIMEZONE:Europe/Moscow
BEGIN:VEVENT
UID:2w9h@192.168.245.71:3006
SEQUENCE:0
DTSTAMP:20260423T062420Z
DTSTART:20260119T070000Z
DTEND:20260119T084000Z
SUMMARY:Высшая математика
LOCATION:DL Дистанционно
END:VEVENT
BEGIN:VEVENT
UID:6fl5@192.168.245.71:3006
SEQUENCE:0
DTSTAMP:20260423T062420Z
DTSTART:20260120T070000Z
DTEND:20260120T104000Z
SUMMARY:Высшая математика
LOCATION:50 уч.к 1235
END:VEVENT
BEGIN:VEVENT
UID:1sgx@192.168.245.71:3006
SEQUENCE:0
DTSTAMP:20260423T062420Z
DTSTART:20260120T110000Z
DTEND:20260120T144000Z
SUMMARY:Высшая математика
LOCATION:50 уч.к 1235
END:VEVENT
BEGIN:VEVENT
UID:0k7j@192.168.245.71:3006
SEQUENCE:0
DTSTAMP:20260423T062420Z
DTSTART:20260121T070000Z
DTEND:20260121T084000Z
SUMMARY:Высшая математика
LOCATION:DL Дистанционно
END:VEVENT
BEGIN:VEVENT
UID:oy6c@192.168.245.71:3006
SEQUENCE:0
DTSTAMP:20260423T062420Z
DTSTART:20260122T070000Z
DTEND:20260122T104000Z
SUMMARY:Высшая математика
LOCATION:50 уч.к 1232
END:VEVENT
END:VCALENDAR