BEGIN:VCALENDAR
VERSION:2.0
PRODID:-//spbstu.ru//ical//RU
NAME:Расписание
X-WR-CALNAME:Расписание
TIMEZONE-ID:Europe/Moscow
X-WR-TIMEZONE:Europe/Moscow
BEGIN:VEVENT
UID:36y5@192.168.245.71:3006
SEQUENCE:0
DTSTAMP:20260422T193654Z
DTSTART:20260224T070000Z
DTEND:20260224T084000Z
SUMMARY:Высшая математика
LOCATION:50 уч.к 1234
END:VEVENT
BEGIN:VEVENT
UID:m5vw@192.168.245.71:3006
SEQUENCE:0
DTSTAMP:20260422T193654Z
DTSTART:20260224T090000Z
DTEND:20260224T104000Z
SUMMARY:Высшая математика
LOCATION:50 уч.к 1234
END:VEVENT
BEGIN:VEVENT
UID:qazk@192.168.245.71:3006
SEQUENCE:0
DTSTAMP:20260422T193654Z
DTSTART:20260224T110000Z
DTEND:20260224T124000Z
SUMMARY:Высшая математика
LOCATION:50 уч.к 1234
END:VEVENT
BEGIN:VEVENT
UID:7jh8@192.168.245.71:3006
SEQUENCE:0
DTSTAMP:20260422T193654Z
DTSTART:20260225T150000Z
DTEND:20260225T164000Z
SUMMARY:Теория вероятностей
LOCATION:50 уч.к 1249
END:VEVENT
BEGIN:VEVENT
UID:wb9q@192.168.245.71:3006
SEQUENCE:0
DTSTAMP:20260422T193654Z
DTSTART:20260226T150000Z
DTEND:20260226T164000Z
SUMMARY:Высшая математика
LOCATION:50 уч.к 1251
END:VEVENT
BEGIN:VEVENT
UID:lc56@192.168.245.71:3006
SEQUENCE:0
DTSTAMP:20260422T193654Z
DTSTART:20260227T090000Z
DTEND:20260227T104000Z
SUMMARY:Высшая математика
LOCATION:50 уч.к 1111
END:VEVENT
BEGIN:VEVENT
UID:lsas@192.168.245.71:3006
SEQUENCE:0
DTSTAMP:20260422T193654Z
DTSTART:20260227T110000Z
DTEND:20260227T124000Z
SUMMARY:Высшая математика
LOCATION:50 уч.к 1235
END:VEVENT
BEGIN:VEVENT
UID:bhr6@192.168.245.71:3006
SEQUENCE:0
DTSTAMP:20260422T193654Z
DTSTART:20260228T070000Z
DTEND:20260228T084000Z
SUMMARY:Высшая математика
LOCATION:50 уч.к 1234
END:VEVENT
BEGIN:VEVENT
UID:pyx1@192.168.245.71:3006
SEQUENCE:0
DTSTAMP:20260422T193654Z
DTSTART:20260228T110000Z
DTEND:20260228T124000Z
SUMMARY:Высшая математика
LOCATION:50 уч.к 1230
END:VEVENT
END:VCALENDAR