BEGIN:VCALENDAR
VERSION:2.0
PRODID:-//spbstu.ru//ical//RU
NAME:Расписание
X-WR-CALNAME:Расписание
TIMEZONE-ID:Europe/Moscow
X-WR-TIMEZONE:Europe/Moscow
BEGIN:VEVENT
UID:bvxo@192.168.245.71:3006
SEQUENCE:0
DTSTAMP:20260422T070907Z
DTSTART:20260611T070000Z
DTEND:20260611T084000Z
SUMMARY:Высшая математика
LOCATION:50 уч.к 1245
END:VEVENT
BEGIN:VEVENT
UID:oyuu@192.168.245.71:3006
SEQUENCE:0
DTSTAMP:20260422T070907Z
DTSTART:20260611T070000Z
DTEND:20260611T084000Z
SUMMARY:Высшая математика
LOCATION:50 уч.к 1245
END:VEVENT
END:VCALENDAR