BEGIN:VCALENDAR
VERSION:2.0
PRODID:-//spbstu.ru//ical//RU
NAME:Расписание
X-WR-CALNAME:Расписание
TIMEZONE-ID:Europe/Moscow
X-WR-TIMEZONE:Europe/Moscow
BEGIN:VEVENT
UID:4is7@192.168.245.71:3006
SEQUENCE:0
DTSTAMP:20260422T081535Z
DTSTART:20260128T090000Z
DTEND:20260128T124000Z
SUMMARY:Цифровые ресурсы в научном исследовании
LOCATION:Мех. к. Уч. кл. КВХТ №14
END:VEVENT
END:VCALENDAR