BEGIN:VCALENDAR
VERSION:2.0
PRODID:-//spbstu.ru//ical//RU
NAME:Расписание
X-WR-CALNAME:Расписание
TIMEZONE-ID:Europe/Moscow
X-WR-TIMEZONE:Europe/Moscow
BEGIN:VEVENT
UID:elp7@192.168.245.71:3006
SEQUENCE:0
DTSTAMP:20260424T215228Z
DTSTART:20251006T130000Z
DTEND:20251006T144000Z
SUMMARY:Метрология\, стандартизация и сертификация
LOCATION:Мех. к. каф.Т М
END:VEVENT
BEGIN:VEVENT
UID:5mcr@192.168.245.71:3006
SEQUENCE:0
DTSTAMP:20260424T215228Z
DTSTART:20251006T144000Z
DTEND:20251006T154000Z
SUMMARY:Метрология\, стандартизация и сертификация
LOCATION:Мех. к. каф.Т М
END:VEVENT
BEGIN:VEVENT
UID:1e8y@192.168.245.71:3006
SEQUENCE:0
DTSTAMP:20260424T215228Z
DTSTART:20251007T060000Z
DTEND:20251007T065000Z
SUMMARY:Метрология\, стандартизация и сертификация
LOCATION:Мех. к. каф.Т М
END:VEVENT
BEGIN:VEVENT
UID:97xj@192.168.245.71:3006
SEQUENCE:0
DTSTAMP:20260424T215228Z
DTSTART:20251007T070000Z
DTEND:20251007T084000Z
SUMMARY:Метрология\, стандартизация и сертификация
LOCATION:Мех. к. каф.Т М
END:VEVENT
BEGIN:VEVENT
UID:2hn9@192.168.245.71:3006
SEQUENCE:0
DTSTAMP:20260424T215228Z
DTSTART:20251007T090000Z
DTEND:20251007T104000Z
SUMMARY:Метрология\, стандартизация и сертификация
LOCATION:Мех. к. каф.Т М
END:VEVENT
BEGIN:VEVENT
UID:za00@192.168.245.71:3006
SEQUENCE:0
DTSTAMP:20260424T215228Z
DTSTART:20251007T110000Z
DTEND:20251007T124000Z
SUMMARY:Метрология\, стандартизация и сертификация
LOCATION:Мех. к. каф.Т М
END:VEVENT
BEGIN:VEVENT
UID:d67w@192.168.245.71:3006
SEQUENCE:0
DTSTAMP:20260424T215228Z
DTSTART:20251008T110000Z
DTEND:20251008T124000Z
SUMMARY:Режущие инструменты
LOCATION:Мех. к. каф.Т М
END:VEVENT
BEGIN:VEVENT
UID:gw3p@192.168.245.71:3006
SEQUENCE:0
DTSTAMP:20260424T215228Z
DTSTART:20251008T130000Z
DTEND:20251008T144000Z
SUMMARY:Режущие инструменты
LOCATION:Мех. к. каф.Т М
END:VEVENT
BEGIN:VEVENT
UID:xoem@192.168.245.71:3006
SEQUENCE:0
DTSTAMP:20260424T215228Z
DTSTART:20251008T150000Z
DTEND:20251008T155000Z
SUMMARY:Режущие инструменты
LOCATION:Мех. к. каф.Т М
END:VEVENT
BEGIN:VEVENT
UID:9hlj@192.168.245.71:3006
SEQUENCE:0
DTSTAMP:20260424T215228Z
DTSTART:20251009T110000Z
DTEND:20251009T124000Z
SUMMARY:Режущие инструменты
LOCATION:Мех. к. каф.Т М
END:VEVENT
BEGIN:VEVENT
UID:dvab@192.168.245.71:3006
SEQUENCE:0
DTSTAMP:20260424T215228Z
DTSTART:20251010T070000Z
DTEND:20251010T084000Z
SUMMARY:Режущие инструменты
LOCATION:1 к. 41
END:VEVENT
BEGIN:VEVENT
UID:jexu@192.168.245.71:3006
SEQUENCE:0
DTSTAMP:20260424T215228Z
DTSTART:20251010T070000Z
DTEND:20251010T084000Z
SUMMARY:Режущие инструменты
LOCATION:1 к. 41
END:VEVENT
BEGIN:VEVENT
UID:ku66@192.168.245.71:3006
SEQUENCE:0
DTSTAMP:20260424T215228Z
DTSTART:20251010T070000Z
DTEND:20251010T084000Z
SUMMARY:Режущие инструменты
LOCATION:1 к. 41
END:VEVENT
BEGIN:VEVENT
UID:1yho@192.168.245.71:3006
SEQUENCE:0
DTSTAMP:20260424T215228Z
DTSTART:20251010T090000Z
DTEND:20251010T104000Z
SUMMARY:Режущие инструменты
LOCATION:Мех. к. каф.Т М
END:VEVENT
END:VCALENDAR