BEGIN:VCALENDAR
VERSION:2.0
PRODID:-//spbstu.ru//ical//RU
NAME:Расписание
X-WR-CALNAME:Расписание
TIMEZONE-ID:Europe/Moscow
X-WR-TIMEZONE:Europe/Moscow
BEGIN:VEVENT
UID:mpn6@192.168.245.71:3006
SEQUENCE:0
DTSTAMP:20260422T113810Z
DTSTART:20260218T070000Z
DTEND:20260218T084000Z
SUMMARY:Основы технологии машиностроения
LOCATION:Мех. к. каф.Т М
END:VEVENT
BEGIN:VEVENT
UID:h42d@192.168.245.71:3006
SEQUENCE:0
DTSTAMP:20260422T113810Z
DTSTART:20260218T090000Z
DTEND:20260218T104000Z
SUMMARY:Основы технологии машиностроения
LOCATION:Мех. к. каф.Т М
END:VEVENT
BEGIN:VEVENT
UID:dii7@192.168.245.71:3006
SEQUENCE:0
DTSTAMP:20260422T113810Z
DTSTART:20260219T153000Z
DTEND:20260219T170000Z
SUMMARY:Современные технологии производства
LOCATION:DL Дистанционно
END:VEVENT
BEGIN:VEVENT
UID:h7o9@192.168.245.71:3006
SEQUENCE:0
DTSTAMP:20260422T113810Z
DTSTART:20260219T171500Z
DTEND:20260219T184500Z
SUMMARY:Современные технологии производства
LOCATION:DL Дистанционно
END:VEVENT
END:VCALENDAR