BEGIN:VCALENDAR
VERSION:2.0
PRODID:-//spbstu.ru//ical//RU
NAME:Расписание
X-WR-CALNAME:Расписание
TIMEZONE-ID:Europe/Moscow
X-WR-TIMEZONE:Europe/Moscow
BEGIN:VEVENT
UID:y1f1@192.168.245.71:3006
SEQUENCE:0
DTSTAMP:20260421T123002Z
DTSTART:20260429T070000Z
DTEND:20260429T084000Z
SUMMARY:Основы технологии машиностроения
LOCATION:Мех. к. каф.Т М
END:VEVENT
BEGIN:VEVENT
UID:muew@192.168.245.71:3006
SEQUENCE:0
DTSTAMP:20260421T123002Z
DTSTART:20260429T090000Z
DTEND:20260429T104000Z
SUMMARY:Основы технологии машиностроения
LOCATION:Мех. к. каф.Т М
END:VEVENT
BEGIN:VEVENT
UID:plpd@192.168.245.71:3006
SEQUENCE:0
DTSTAMP:20260421T123002Z
DTSTART:20260430T153000Z
DTEND:20260430T170000Z
SUMMARY:Современные технологии производства
LOCATION:DL Дистанционно
END:VEVENT
BEGIN:VEVENT
UID:lkd3@192.168.245.71:3006
SEQUENCE:0
DTSTAMP:20260421T123002Z
DTSTART:20260430T171500Z
DTEND:20260430T184500Z
SUMMARY:Современные технологии производства
LOCATION:DL Дистанционно
END:VEVENT
END:VCALENDAR