BEGIN:VCALENDAR
VERSION:2.0
PRODID:-//spbstu.ru//ical//RU
NAME:Расписание
X-WR-CALNAME:Расписание
TIMEZONE-ID:Europe/Moscow
X-WR-TIMEZONE:Europe/Moscow
BEGIN:VEVENT
UID:1rfp@192.168.245.71:3006
SEQUENCE:0
DTSTAMP:20260423T170814Z
DTSTART:20251125T130000Z
DTEND:20251125T144000Z
SUMMARY:Иностранный язык в профессиональной коммуникации\, Английский
LOCATION:16 к. 203
END:VEVENT
BEGIN:VEVENT
UID:d7sz@192.168.245.71:3006
SEQUENCE:0
DTSTAMP:20260423T170814Z
DTSTART:20251127T070000Z
DTEND:20251127T084000Z
SUMMARY:Иностранный язык в профессиональной коммуникации\, Английский
LOCATION:16 к. 114
END:VEVENT
BEGIN:VEVENT
UID:ik4q@192.168.245.71:3006
SEQUENCE:0
DTSTAMP:20260423T170814Z
DTSTART:20251128T090000Z
DTEND:20251128T104000Z
SUMMARY:Иностранный язык в профессиональной коммуникации\, Английский
LOCATION:16 к. 114
END:VEVENT
BEGIN:VEVENT
UID:g0s7@192.168.245.71:3006
SEQUENCE:0
DTSTAMP:20260423T170814Z
DTSTART:20251128T110000Z
DTEND:20251128T124000Z
SUMMARY:Иностранный язык в профессиональной коммуникации\, Английский
LOCATION:16 к. 501
END:VEVENT
BEGIN:VEVENT
UID:bj0a@192.168.245.71:3006
SEQUENCE:0
DTSTAMP:20260423T170814Z
DTSTART:20251128T130000Z
DTEND:20251128T144000Z
SUMMARY:Иностранный язык в профессиональной коммуникации\, Английский
LOCATION:16 к. 501
END:VEVENT
BEGIN:VEVENT
UID:irt6@192.168.245.71:3006
SEQUENCE:0
DTSTAMP:20260423T170814Z
DTSTART:20251128T150000Z
DTEND:20251128T164000Z
SUMMARY:Иностранный язык в профессиональной коммуникации\, Английский
LOCATION:16 к. 501
END:VEVENT
END:VCALENDAR