BEGIN:VCALENDAR
VERSION:2.0
PRODID:-//spbstu.ru//ical//RU
NAME:Расписание
X-WR-CALNAME:Расписание
TIMEZONE-ID:Europe/Moscow
X-WR-TIMEZONE:Europe/Moscow
BEGIN:VEVENT
UID:5j9l@192.168.245.71:3006
SEQUENCE:0
DTSTAMP:20260422T113810Z
DTSTART:20260216T070000Z
DTEND:20260216T084000Z
SUMMARY:Английский язык: Профессионально-ориентированный курс
LOCATION:16 к. 509
END:VEVENT
BEGIN:VEVENT
UID:g794@192.168.245.71:3006
SEQUENCE:0
DTSTAMP:20260422T113810Z
DTSTART:20260216T090000Z
DTEND:20260216T104000Z
SUMMARY:Английский язык: Профессионально-ориентированный курс
LOCATION:16 к. 509
END:VEVENT
BEGIN:VEVENT
UID:e7lg@192.168.245.71:3006
SEQUENCE:0
DTSTAMP:20260422T113810Z
DTSTART:20260216T110000Z
DTEND:20260216T124000Z
SUMMARY:Английский язык: Профессионально-ориентированный курс
LOCATION:16 к. 509
END:VEVENT
BEGIN:VEVENT
UID:aqwm@192.168.245.71:3006
SEQUENCE:0
DTSTAMP:20260422T113810Z
DTSTART:20260216T130000Z
DTEND:20260216T144000Z
SUMMARY:Английский язык: Профессионально-ориентированный курс
LOCATION:16 к. 509
END:VEVENT
BEGIN:VEVENT
UID:ar6i@192.168.245.71:3006
SEQUENCE:0
DTSTAMP:20260422T113810Z
DTSTART:20260219T070000Z
DTEND:20260219T084000Z
SUMMARY:Английский язык: Профессионально-ориентированный курс
LOCATION:16 к. 523
END:VEVENT
BEGIN:VEVENT
UID:wa15@192.168.245.71:3006
SEQUENCE:0
DTSTAMP:20260422T113810Z
DTSTART:20260219T090000Z
DTEND:20260219T104000Z
SUMMARY:Английский язык: Профессионально-ориентированный курс
LOCATION:16 к. 523
END:VEVENT
BEGIN:VEVENT
UID:1uzc@192.168.245.71:3006
SEQUENCE:0
DTSTAMP:20260422T113810Z
DTSTART:20260220T110000Z
DTEND:20260220T124000Z
SUMMARY:Английский язык: Профессионально-ориентированный курс
LOCATION:16 к. 509
END:VEVENT
BEGIN:VEVENT
UID:mjta@192.168.245.71:3006
SEQUENCE:0
DTSTAMP:20260422T113810Z
DTSTART:20260220T130000Z
DTEND:20260220T144000Z
SUMMARY:Английский язык: Профессионально-ориентированный курс
LOCATION:16 к. 509
END:VEVENT
BEGIN:VEVENT
UID:0g1p@192.168.245.71:3006
SEQUENCE:0
DTSTAMP:20260422T113810Z
DTSTART:20260220T150000Z
DTEND:20260220T154500Z
SUMMARY:Иностранный язык в профессиональной коммуникации\, Английский
LOCATION:16 к. 509
END:VEVENT
END:VCALENDAR