BEGIN:VCALENDAR
VERSION:2.0
PRODID:-//spbstu.ru//ical//RU
NAME:Расписание
X-WR-CALNAME:Расписание
TIMEZONE-ID:Europe/Moscow
X-WR-TIMEZONE:Europe/Moscow
BEGIN:VEVENT
UID:2j6s@192.168.245.71:3006
SEQUENCE:0
DTSTAMP:20260421T173200Z
DTSTART:20260330T070000Z
DTEND:20260330T084000Z
SUMMARY:Английский язык: Профессионально-ориентированный курс
LOCATION:16 к. 509
END:VEVENT
BEGIN:VEVENT
UID:s2sm@192.168.245.71:3006
SEQUENCE:0
DTSTAMP:20260421T173200Z
DTSTART:20260330T090000Z
DTEND:20260330T104000Z
SUMMARY:Английский язык: Профессионально-ориентированный курс
LOCATION:16 к. 509
END:VEVENT
BEGIN:VEVENT
UID:jjz1@192.168.245.71:3006
SEQUENCE:0
DTSTAMP:20260421T173200Z
DTSTART:20260402T070000Z
DTEND:20260402T084000Z
SUMMARY:Английский язык: Профессионально-ориентированный курс
LOCATION:16 к. 523
END:VEVENT
BEGIN:VEVENT
UID:sehv@192.168.245.71:3006
SEQUENCE:0
DTSTAMP:20260421T173200Z
DTSTART:20260402T090000Z
DTEND:20260402T104000Z
SUMMARY:Английский язык: Профессионально-ориентированный курс
LOCATION:16 к. 523
END:VEVENT
BEGIN:VEVENT
UID:qlez@192.168.245.71:3006
SEQUENCE:0
DTSTAMP:20260421T173200Z
DTSTART:20260403T110000Z
DTEND:20260403T124000Z
SUMMARY:Английский язык: Профессионально-ориентированный курс
LOCATION:16 к. 509
END:VEVENT
BEGIN:VEVENT
UID:74kz@192.168.245.71:3006
SEQUENCE:0
DTSTAMP:20260421T173200Z
DTSTART:20260403T130000Z
DTEND:20260403T144000Z
SUMMARY:Английский язык: Профессионально-ориентированный курс
LOCATION:16 к. 509
END:VEVENT
END:VCALENDAR