BEGIN:VCALENDAR
VERSION:2.0
PRODID:-//spbstu.ru//ical//RU
NAME:Расписание
X-WR-CALNAME:Расписание
TIMEZONE-ID:Europe/Moscow
X-WR-TIMEZONE:Europe/Moscow
BEGIN:VEVENT
UID:lqoj@192.168.245.71:3006
SEQUENCE:0
DTSTAMP:20260424T135006Z
DTSTART:20250922T090000Z
DTEND:20250922T104000Z
SUMMARY:Теория колебаний
LOCATION:2 к. 365
END:VEVENT
BEGIN:VEVENT
UID:bxw7@192.168.245.71:3006
SEQUENCE:0
DTSTAMP:20260424T135006Z
DTSTART:20250922T110000Z
DTEND:20250922T114500Z
SUMMARY:Теория колебаний
LOCATION:2 к. 365
END:VEVENT
BEGIN:VEVENT
UID:8opu@192.168.245.71:3006
SEQUENCE:0
DTSTAMP:20260424T135006Z
DTSTART:20250922T120000Z
DTEND:20250922T134000Z
SUMMARY:Теория колебаний
LOCATION:2 к. 365
END:VEVENT
BEGIN:VEVENT
UID:4tqv@192.168.245.71:3006
SEQUENCE:0
DTSTAMP:20260424T135006Z
DTSTART:20250926T110000Z
DTEND:20250926T124000Z
SUMMARY:Аналитическая динамика
LOCATION:2 к. 365
END:VEVENT
BEGIN:VEVENT
UID:tahm@192.168.245.71:3006
SEQUENCE:0
DTSTAMP:20260424T135006Z
DTSTART:20250926T130000Z
DTEND:20250926T144000Z
SUMMARY:Аналитическая динамика
LOCATION:2 к. 365
END:VEVENT
BEGIN:VEVENT
UID:rf48@192.168.245.71:3006
SEQUENCE:0
DTSTAMP:20260424T135006Z
DTSTART:20250926T150000Z
DTEND:20250926T164000Z
SUMMARY:Управление в аналитической механике
LOCATION:2 к. 365
END:VEVENT
END:VCALENDAR