BEGIN:VCALENDAR
VERSION:2.0
PRODID:-//spbstu.ru//ical//RU
NAME:Расписание
X-WR-CALNAME:Расписание
TIMEZONE-ID:Europe/Moscow
X-WR-TIMEZONE:Europe/Moscow
BEGIN:VEVENT
UID:mvzl@192.168.245.71:3006
SEQUENCE:0
DTSTAMP:20260423T075608Z
DTSTART:20250930T090000Z
DTEND:20250930T104000Z
SUMMARY:Введение в профессиональную деятельность
LOCATION:ЛабК 65
END:VEVENT
BEGIN:VEVENT
UID:zz6c@192.168.245.71:3006
SEQUENCE:0
DTSTAMP:20260423T075608Z
DTSTART:20250930T110000Z
DTEND:20250930T124000Z
SUMMARY:Технологии материалов и компонентов электронной техники
LOCATION:Хим. к. 55
END:VEVENT
BEGIN:VEVENT
UID:gssp@192.168.245.71:3006
SEQUENCE:0
DTSTAMP:20260423T075608Z
DTSTART:20250930T130000Z
DTEND:20250930T144000Z
SUMMARY:Технологии материалов и компонентов электронной техники
LOCATION:Хим. к. 55
END:VEVENT
BEGIN:VEVENT
UID:jqwg@192.168.245.71:3006
SEQUENCE:0
DTSTAMP:20260423T075608Z
DTSTART:20250930T150000Z
DTEND:20250930T154500Z
SUMMARY:Технологии материалов и компонентов электронной техники
LOCATION:ЛабК 65
END:VEVENT
BEGIN:VEVENT
UID:aft5@192.168.245.71:3006
SEQUENCE:0
DTSTAMP:20260423T075608Z
DTSTART:20251002T090000Z
DTEND:20251002T104000Z
SUMMARY:Оборудование и технологии формирования тонких плёнок в микроэлектр
 онике
LOCATION:ЛабК 65
END:VEVENT
BEGIN:VEVENT
UID:n4u6@192.168.245.71:3006
SEQUENCE:0
DTSTAMP:20260423T075608Z
DTSTART:20251002T110000Z
DTEND:20251002T124000Z
SUMMARY:Физико-химические основы технологических процессов в микросистемно
 й технике
LOCATION:ЛабК 65
END:VEVENT
END:VCALENDAR