BEGIN:VCALENDAR
VERSION:2.0
PRODID:-//spbstu.ru//ical//RU
NAME:Расписание
X-WR-CALNAME:Расписание
TIMEZONE-ID:Europe/Moscow
X-WR-TIMEZONE:Europe/Moscow
BEGIN:VEVENT
UID:rfbr@192.168.245.71:3006
SEQUENCE:0
DTSTAMP:20260421T122934Z
DTSTART:20260609T090000Z
DTEND:20260609T094500Z
SUMMARY:Технологии материалов и компонентов электронной техники
LOCATION:Хим. к. 55
END:VEVENT
BEGIN:VEVENT
UID:wskv@192.168.245.71:3006
SEQUENCE:0
DTSTAMP:20260421T122934Z
DTSTART:20260610T090000Z
DTEND:20260610T130000Z
SUMMARY:Технологии материалов и компонентов электронной техники
LOCATION:Хим. к. 55
END:VEVENT
END:VCALENDAR