BEGIN:VCALENDAR
VERSION:2.0
PRODID:-//spbstu.ru//ical//RU
NAME:Расписание
X-WR-CALNAME:Расписание
TIMEZONE-ID:Europe/Moscow
X-WR-TIMEZONE:Europe/Moscow
BEGIN:VEVENT
UID:vjnx@192.168.245.71:3006
SEQUENCE:0
DTSTAMP:20260425T134020Z
DTSTART:20251017T153000Z
DTEND:20251017T170000Z
SUMMARY:Логистика предприятия
LOCATION:DL Дистанционно
END:VEVENT
BEGIN:VEVENT
UID:huyr@192.168.245.71:3006
SEQUENCE:0
DTSTAMP:20260425T134020Z
DTSTART:20251017T171500Z
DTEND:20251017T184500Z
SUMMARY:Логистика предприятия
LOCATION:DL Дистанционно
END:VEVENT
END:VCALENDAR