BEGIN:VCALENDAR
VERSION:2.0
PRODID:-//spbstu.ru//ical//RU
NAME:Расписание
X-WR-CALNAME:Расписание
TIMEZONE-ID:Europe/Moscow
X-WR-TIMEZONE:Europe/Moscow
BEGIN:VEVENT
UID:z5gf@192.168.245.71:3006
SEQUENCE:0
DTSTAMP:20260424T194350Z
DTSTART:20251203T153000Z
DTEND:20251203T170000Z
SUMMARY:Логистика предприятия
LOCATION:DL Дистанционно
END:VEVENT
BEGIN:VEVENT
UID:d22u@192.168.245.71:3006
SEQUENCE:0
DTSTAMP:20260424T194350Z
DTSTART:20251203T171500Z
DTEND:20251203T184500Z
SUMMARY:Логистика предприятия
LOCATION:DL Дистанционно
END:VEVENT
END:VCALENDAR