BEGIN:VCALENDAR
VERSION:2.0
PRODID:-//spbstu.ru//ical//RU
NAME:Расписание
X-WR-CALNAME:Расписание
TIMEZONE-ID:Europe/Moscow
X-WR-TIMEZONE:Europe/Moscow
BEGIN:VEVENT
UID:9x4n@192.168.245.71:3006
SEQUENCE:0
DTSTAMP:20260425T224237Z
DTSTART:20251003T153000Z
DTEND:20251003T170000Z
SUMMARY:Логистика предприятия
LOCATION:DL Дистанционно
END:VEVENT
BEGIN:VEVENT
UID:eh9q@192.168.245.71:3006
SEQUENCE:0
DTSTAMP:20260425T224237Z
DTSTART:20251003T171500Z
DTEND:20251003T184500Z
SUMMARY:Логистика предприятия
LOCATION:DL Дистанционно
END:VEVENT
END:VCALENDAR