BEGIN:VCALENDAR
VERSION:2.0
PRODID:-//spbstu.ru//ical//RU
NAME:Расписание
X-WR-CALNAME:Расписание
TIMEZONE-ID:Europe/Moscow
X-WR-TIMEZONE:Europe/Moscow
BEGIN:VEVENT
UID:nlvn@192.168.245.71:3006
SEQUENCE:0
DTSTAMP:20260422T190228Z
DTSTART:20260213T050000Z
DTEND:20260213T064000Z
SUMMARY:Логистика предприятия
LOCATION:50 уч.к 1424
END:VEVENT
BEGIN:VEVENT
UID:xhx0@192.168.245.71:3006
SEQUENCE:0
DTSTAMP:20260422T190228Z
DTSTART:20260213T070000Z
DTEND:20260213T084000Z
SUMMARY:Логистика предприятия
LOCATION:50 уч.к 1424
END:VEVENT
END:VCALENDAR