BEGIN:VCALENDAR
VERSION:2.0
PRODID:-//spbstu.ru//ical//RU
NAME:Расписание
X-WR-CALNAME:Расписание
TIMEZONE-ID:Europe/Moscow
X-WR-TIMEZONE:Europe/Moscow
BEGIN:VEVENT
UID:0h08@192.168.245.71:3006
SEQUENCE:0
DTSTAMP:20260421T193354Z
DTSTART:20260413T153000Z
DTEND:20260413T170000Z
SUMMARY:Логистика предприятия
LOCATION:DL Дистанционно
END:VEVENT
BEGIN:VEVENT
UID:mx5j@192.168.245.71:3006
SEQUENCE:0
DTSTAMP:20260421T193354Z
DTSTART:20260413T171500Z
DTEND:20260413T184500Z
SUMMARY:Логистика предприятия
LOCATION:DL Дистанционно
END:VEVENT
BEGIN:VEVENT
UID:7h7h@192.168.245.71:3006
SEQUENCE:0
DTSTAMP:20260421T193354Z
DTSTART:20260417T050000Z
DTEND:20260417T064000Z
SUMMARY:Логистика предприятия
LOCATION:50 уч.к 1424
END:VEVENT
BEGIN:VEVENT
UID:t1e8@192.168.245.71:3006
SEQUENCE:0
DTSTAMP:20260421T193354Z
DTSTART:20260417T070000Z
DTEND:20260417T084000Z
SUMMARY:Логистика предприятия
LOCATION:50 уч.к 1424
END:VEVENT
END:VCALENDAR