BEGIN:VCALENDAR
VERSION:2.0
PRODID:-//spbstu.ru//ical//RU
NAME:Расписание
X-WR-CALNAME:Расписание
TIMEZONE-ID:Europe/Moscow
X-WR-TIMEZONE:Europe/Moscow
BEGIN:VEVENT
UID:aso6@192.168.245.71:3006
SEQUENCE:0
DTSTAMP:20260422T013057Z
DTSTART:20260317T090000Z
DTEND:20260317T104000Z
SUMMARY:Высшая математика
LOCATION:DL Дистанционно
END:VEVENT
BEGIN:VEVENT
UID:a3hn@192.168.245.71:3006
SEQUENCE:0
DTSTAMP:20260422T013057Z
DTSTART:20260317T090000Z
DTEND:20260317T104000Z
SUMMARY:Высшая математика
LOCATION:DL Дистанционно
END:VEVENT
BEGIN:VEVENT
UID:v6dx@192.168.245.71:3006
SEQUENCE:0
DTSTAMP:20260422T013057Z
DTSTART:20260318T110000Z
DTEND:20260318T124000Z
SUMMARY:Высшая математика
LOCATION:15 к. 634
END:VEVENT
BEGIN:VEVENT
UID:066f@192.168.245.71:3006
SEQUENCE:0
DTSTAMP:20260422T013057Z
DTSTART:20260318T130000Z
DTEND:20260318T144000Z
SUMMARY:Высшая математика
LOCATION:15 к. 634
END:VEVENT
BEGIN:VEVENT
UID:8fxe@192.168.245.71:3006
SEQUENCE:0
DTSTAMP:20260422T013057Z
DTSTART:20260319T110000Z
DTEND:20260319T124000Z
SUMMARY:Высшая математика
LOCATION:15 к. 634
END:VEVENT
BEGIN:VEVENT
UID:8too@192.168.245.71:3006
SEQUENCE:0
DTSTAMP:20260422T013057Z
DTSTART:20260320T110000Z
DTEND:20260320T124000Z
SUMMARY:Высшая математика
LOCATION:15 к. 634
END:VEVENT
BEGIN:VEVENT
UID:3awz@192.168.245.71:3006
SEQUENCE:0
DTSTAMP:20260422T013057Z
DTSTART:20260320T130000Z
DTEND:20260320T144000Z
SUMMARY:Высшая математика
LOCATION:15 к. 634
END:VEVENT
END:VCALENDAR