BEGIN:VCALENDAR
VERSION:2.0
PRODID:-//spbstu.ru//ical//RU
NAME:Расписание
X-WR-CALNAME:Расписание
TIMEZONE-ID:Europe/Moscow
X-WR-TIMEZONE:Europe/Moscow
BEGIN:VEVENT
UID:u6v2@192.168.245.71:3006
SEQUENCE:0
DTSTAMP:20260423T030336Z
DTSTART:20260216T153000Z
DTEND:20260216T170000Z
SUMMARY:Государственное управление инновациями
LOCATION:50 уч.к 1115
END:VEVENT
BEGIN:VEVENT
UID:9eqr@192.168.245.71:3006
SEQUENCE:0
DTSTAMP:20260423T030336Z
DTSTART:20260216T171500Z
DTEND:20260216T184500Z
SUMMARY:Государственное управление инновациями
LOCATION:50 уч.к 1115
END:VEVENT
BEGIN:VEVENT
UID:7h1s@192.168.245.71:3006
SEQUENCE:0
DTSTAMP:20260423T030336Z
DTSTART:20260217T153000Z
DTEND:20260217T170000Z
SUMMARY:Региональное управление и территориальное планирование
LOCATION:DL Дистанционно
END:VEVENT
BEGIN:VEVENT
UID:gyxs@192.168.245.71:3006
SEQUENCE:0
DTSTAMP:20260423T030336Z
DTSTART:20260217T171500Z
DTEND:20260217T184500Z
SUMMARY:Региональное управление и территориальное планирование
LOCATION:DL Дистанционно
END:VEVENT
BEGIN:VEVENT
UID:rh27@192.168.245.71:3006
SEQUENCE:0
DTSTAMP:20260423T030336Z
DTSTART:20260219T153000Z
DTEND:20260219T170000Z
SUMMARY:Прогнозирование социально-экономического развития государства
LOCATION:DL Дистанционно
END:VEVENT
BEGIN:VEVENT
UID:86yi@192.168.245.71:3006
SEQUENCE:0
DTSTAMP:20260423T030336Z
DTSTART:20260219T171500Z
DTEND:20260219T184500Z
SUMMARY:Прогнозирование социально-экономического развития государства
LOCATION:DL Дистанционно
END:VEVENT
END:VCALENDAR