BEGIN:VCALENDAR
VERSION:2.0
PRODID:-//spbstu.ru//ical//RU
NAME:Расписание
X-WR-CALNAME:Расписание
TIMEZONE-ID:Europe/Moscow
X-WR-TIMEZONE:Europe/Moscow
BEGIN:VEVENT
UID:skhf@192.168.245.71:3006
SEQUENCE:0
DTSTAMP:20260421T182233Z
DTSTART:20260330T153000Z
DTEND:20260330T170000Z
SUMMARY:Государственное управление инновациями
LOCATION:50 уч.к 1115
END:VEVENT
BEGIN:VEVENT
UID:7wfu@192.168.245.71:3006
SEQUENCE:0
DTSTAMP:20260421T182233Z
DTSTART:20260330T171500Z
DTEND:20260330T184500Z
SUMMARY:Государственное управление инновациями
LOCATION:50 уч.к 1115
END:VEVENT
BEGIN:VEVENT
UID:jlzk@192.168.245.71:3006
SEQUENCE:0
DTSTAMP:20260421T182233Z
DTSTART:20260331T153000Z
DTEND:20260331T170000Z
SUMMARY:Региональное управление и территориальное планирование
LOCATION:DL Дистанционно
END:VEVENT
BEGIN:VEVENT
UID:2m9o@192.168.245.71:3006
SEQUENCE:0
DTSTAMP:20260421T182233Z
DTSTART:20260331T171500Z
DTEND:20260331T184500Z
SUMMARY:Региональное управление и территориальное планирование
LOCATION:DL Дистанционно
END:VEVENT
BEGIN:VEVENT
UID:0y6u@192.168.245.71:3006
SEQUENCE:0
DTSTAMP:20260421T182233Z
DTSTART:20260402T153000Z
DTEND:20260402T170000Z
SUMMARY:Прогнозирование социально-экономического развития государства
LOCATION:DL Дистанционно
END:VEVENT
BEGIN:VEVENT
UID:tsyv@192.168.245.71:3006
SEQUENCE:0
DTSTAMP:20260421T182233Z
DTSTART:20260402T171500Z
DTEND:20260402T184500Z
SUMMARY:Прогнозирование социально-экономического развития государства
LOCATION:DL Дистанционно
END:VEVENT
END:VCALENDAR