BEGIN:VCALENDAR
VERSION:2.0
PRODID:-//spbstu.ru//ical//RU
NAME:Расписание
X-WR-CALNAME:Расписание
TIMEZONE-ID:Europe/Moscow
X-WR-TIMEZONE:Europe/Moscow
BEGIN:VEVENT
UID:i6k6@192.168.245.71:3006
SEQUENCE:0
DTSTAMP:20260424T051600Z
DTSTART:20251103T090000Z
DTEND:20251103T104000Z
SUMMARY:Высшая математика
LOCATION:ГЗ 280
END:VEVENT
BEGIN:VEVENT
UID:wkjp@192.168.245.71:3006
SEQUENCE:0
DTSTAMP:20260424T051600Z
DTSTART:20251103T110000Z
DTEND:20251103T124000Z
SUMMARY:Высшая математика
LOCATION:ГЗ 107
END:VEVENT
BEGIN:VEVENT
UID:fys8@192.168.245.71:3006
SEQUENCE:0
DTSTAMP:20260424T051600Z
DTSTART:20251108T110000Z
DTEND:20251108T124000Z
SUMMARY:Высшая математика
LOCATION:ГЗ 107
END:VEVENT
BEGIN:VEVENT
UID:9mq2@192.168.245.71:3006
SEQUENCE:0
DTSTAMP:20260424T051600Z
DTSTART:20251108T130000Z
DTEND:20251108T144000Z
SUMMARY:Высшая математика
LOCATION:ГЗ 107
END:VEVENT
END:VCALENDAR