BEGIN:VCALENDAR
VERSION:2.0
PRODID:-//spbstu.ru//ical//RU
NAME:Расписание
X-WR-CALNAME:Расписание
TIMEZONE-ID:Europe/Moscow
X-WR-TIMEZONE:Europe/Moscow
BEGIN:VEVENT
UID:2s5i@192.168.245.71:3006
SEQUENCE:0
DTSTAMP:20260424T215210Z
DTSTART:20251006T070000Z
DTEND:20251006T084000Z
SUMMARY:Иностранный язык в профессиональной коммуникации\, Английский
LOCATION:Мех. к. каф.Т М
END:VEVENT
BEGIN:VEVENT
UID:356p@192.168.245.71:3006
SEQUENCE:0
DTSTAMP:20260424T215210Z
DTSTART:20251009T070000Z
DTEND:20251009T084000Z
SUMMARY:Управление инновационным проектом
LOCATION:Мех. к. каф.Т М
END:VEVENT
BEGIN:VEVENT
UID:qao7@192.168.245.71:3006
SEQUENCE:0
DTSTAMP:20260424T215210Z
DTSTART:20251009T090000Z
DTEND:20251009T104000Z
SUMMARY:Научный дискурс
LOCATION:Мех. к. каф.Т М
END:VEVENT
BEGIN:VEVENT
UID:lmvh@192.168.245.71:3006
SEQUENCE:0
DTSTAMP:20260424T215210Z
DTSTART:20251011T070000Z
DTEND:20251011T084000Z
SUMMARY:Производственная логистика
LOCATION:Мех. к. каф.Т М
END:VEVENT
BEGIN:VEVENT
UID:yk1v@192.168.245.71:3006
SEQUENCE:0
DTSTAMP:20260424T215210Z
DTSTART:20251011T090000Z
DTEND:20251011T104000Z
SUMMARY:Производственная логистика
LOCATION:Мех. к. каф.Т М
END:VEVENT
BEGIN:VEVENT
UID:p3pd@192.168.245.71:3006
SEQUENCE:0
DTSTAMP:20260424T215210Z
DTSTART:20251011T110000Z
DTEND:20251011T124000Z
SUMMARY:Цеховая логистика
LOCATION:Мех. к. каф.Т М
END:VEVENT
END:VCALENDAR