BEGIN:VCALENDAR
VERSION:2.0
PRODID:-//spbstu.ru//ical//RU
NAME:Расписание
X-WR-CALNAME:Расписание
TIMEZONE-ID:Europe/Moscow
X-WR-TIMEZONE:Europe/Moscow
BEGIN:VEVENT
UID:o5e9@192.168.245.71:3006
SEQUENCE:0
DTSTAMP:20260423T030506Z
DTSTART:20260203T110000Z
DTEND:20260203T124000Z
SUMMARY:Численные методы
LOCATION:2 к. 416
END:VEVENT
BEGIN:VEVENT
UID:2rnw@192.168.245.71:3006
SEQUENCE:0
DTSTAMP:20260423T030506Z
DTSTART:20260203T130000Z
DTEND:20260203T144000Z
SUMMARY:Численные методы
LOCATION:2 к. 416
END:VEVENT
BEGIN:VEVENT
UID:6huj@192.168.245.71:3006
SEQUENCE:0
DTSTAMP:20260423T030506Z
DTSTART:20260204T090000Z
DTEND:20260204T104000Z
SUMMARY:Математическое моделирование в научных исследованиях
LOCATION:2 к. 416
END:VEVENT
BEGIN:VEVENT
UID:433a@192.168.245.71:3006
SEQUENCE:0
DTSTAMP:20260423T030506Z
DTSTART:20260204T130000Z
DTEND:20260204T144000Z
SUMMARY:Численные методы
LOCATION:2 к. 416
END:VEVENT
BEGIN:VEVENT
UID:xx00@192.168.245.71:3006
SEQUENCE:0
DTSTAMP:20260423T030506Z
DTSTART:20260205T130000Z
DTEND:20260205T144000Z
SUMMARY:Математическое моделирование в научных исследованиях
LOCATION:2 к. 411
END:VEVENT
BEGIN:VEVENT
UID:gas6@192.168.245.71:3006
SEQUENCE:0
DTSTAMP:20260423T030506Z
DTSTART:20260205T130000Z
DTEND:20260205T144000Z
SUMMARY:Математическое моделирование в научных исследованиях
LOCATION:2 к. 411
END:VEVENT
BEGIN:VEVENT
UID:iv5b@192.168.245.71:3006
SEQUENCE:0
DTSTAMP:20260423T030506Z
DTSTART:20260205T150000Z
DTEND:20260205T164000Z
SUMMARY:Математическое моделирование в научных исследованиях
LOCATION:2 к. 416
END:VEVENT
END:VCALENDAR