BEGIN:VCALENDAR
VERSION:2.0
PRODID:-//spbstu.ru//ical//RU
NAME:Расписание
X-WR-CALNAME:Расписание
TIMEZONE-ID:Europe/Moscow
X-WR-TIMEZONE:Europe/Moscow
BEGIN:VEVENT
UID:hi0i@192.168.245.71:3006
SEQUENCE:0
DTSTAMP:20260422T042644Z
DTSTART:20260225T090000Z
DTEND:20260225T104000Z
SUMMARY:Математическое моделирование в научных исследованиях
LOCATION:2 к. 416
END:VEVENT
BEGIN:VEVENT
UID:unrb@192.168.245.71:3006
SEQUENCE:0
DTSTAMP:20260422T042644Z
DTSTART:20260225T130000Z
DTEND:20260225T144000Z
SUMMARY:Численные методы
LOCATION:2 к. 416
END:VEVENT
BEGIN:VEVENT
UID:erex@192.168.245.71:3006
SEQUENCE:0
DTSTAMP:20260422T042644Z
DTSTART:20260225T150000Z
DTEND:20260225T154500Z
SUMMARY:Научно-исследовательская работа (получение первичных навыков научн
 о-исследовательской работы)
LOCATION:2 к. 416
END:VEVENT
BEGIN:VEVENT
UID:sigt@192.168.245.71:3006
SEQUENCE:0
DTSTAMP:20260422T042644Z
DTSTART:20260226T130000Z
DTEND:20260226T144000Z
SUMMARY:Математическое моделирование в научных исследованиях
LOCATION:2 к. 416
END:VEVENT
END:VCALENDAR