BEGIN:VCALENDAR
VERSION:2.0
PRODID:-//spbstu.ru//ical//RU
NAME:Расписание
X-WR-CALNAME:Расписание
TIMEZONE-ID:Europe/Moscow
X-WR-TIMEZONE:Europe/Moscow
BEGIN:VEVENT
UID:zt7h@192.168.245.71:3006
SEQUENCE:0
DTSTAMP:20260422T022202Z
DTSTART:20260303T110000Z
DTEND:20260303T124000Z
SUMMARY:Численные методы
LOCATION:2 к. 416
END:VEVENT
BEGIN:VEVENT
UID:9z1f@192.168.245.71:3006
SEQUENCE:0
DTSTAMP:20260422T022202Z
DTSTART:20260303T130000Z
DTEND:20260303T144000Z
SUMMARY:Численные методы
LOCATION:2 к. 416
END:VEVENT
BEGIN:VEVENT
UID:bofm@192.168.245.71:3006
SEQUENCE:0
DTSTAMP:20260422T022202Z
DTSTART:20260304T090000Z
DTEND:20260304T104000Z
SUMMARY:Математическое моделирование в научных исследованиях
LOCATION:2 к. 416
END:VEVENT
BEGIN:VEVENT
UID:vekt@192.168.245.71:3006
SEQUENCE:0
DTSTAMP:20260422T022202Z
DTSTART:20260304T130000Z
DTEND:20260304T144000Z
SUMMARY:Численные методы
LOCATION:2 к. 416
END:VEVENT
BEGIN:VEVENT
UID:g7bj@192.168.245.71:3006
SEQUENCE:0
DTSTAMP:20260422T022202Z
DTSTART:20260305T130000Z
DTEND:20260305T144000Z
SUMMARY:Математическое моделирование в научных исследованиях
LOCATION:2 к. 209
END:VEVENT
BEGIN:VEVENT
UID:pkoq@192.168.245.71:3006
SEQUENCE:0
DTSTAMP:20260422T022202Z
DTSTART:20260305T130000Z
DTEND:20260305T144000Z
SUMMARY:Математическое моделирование в научных исследованиях
LOCATION:2 к. 209
END:VEVENT
BEGIN:VEVENT
UID:bskq@192.168.245.71:3006
SEQUENCE:0
DTSTAMP:20260422T022202Z
DTSTART:20260305T150000Z
DTEND:20260305T164000Z
SUMMARY:Математическое моделирование в научных исследованиях
LOCATION:2 к. 416
END:VEVENT
END:VCALENDAR