BEGIN:VCALENDAR
VERSION:2.0
PRODID:-//spbstu.ru//ical//RU
NAME:Расписание
X-WR-CALNAME:Расписание
TIMEZONE-ID:Europe/Moscow
X-WR-TIMEZONE:Europe/Moscow
BEGIN:VEVENT
UID:2fn5@192.168.245.71:3006
SEQUENCE:0
DTSTAMP:20260421T184050Z
DTSTART:20260512T110000Z
DTEND:20260512T124000Z
SUMMARY:Численные методы
LOCATION:2 к. 416
END:VEVENT
BEGIN:VEVENT
UID:hq8f@192.168.245.71:3006
SEQUENCE:0
DTSTAMP:20260421T184050Z
DTSTART:20260512T130000Z
DTEND:20260512T144000Z
SUMMARY:Численные методы
LOCATION:2 к. 416
END:VEVENT
BEGIN:VEVENT
UID:s2pt@192.168.245.71:3006
SEQUENCE:0
DTSTAMP:20260421T184050Z
DTSTART:20260513T090000Z
DTEND:20260513T104000Z
SUMMARY:Математическое моделирование в научных исследованиях
LOCATION:2 к. 416
END:VEVENT
BEGIN:VEVENT
UID:jn2w@192.168.245.71:3006
SEQUENCE:0
DTSTAMP:20260421T184050Z
DTSTART:20260513T130000Z
DTEND:20260513T144000Z
SUMMARY:Численные методы
LOCATION:2 к. 416
END:VEVENT
BEGIN:VEVENT
UID:kbby@192.168.245.71:3006
SEQUENCE:0
DTSTAMP:20260421T184050Z
DTSTART:20260514T130000Z
DTEND:20260514T144000Z
SUMMARY:Математическое моделирование в научных исследованиях
LOCATION:2 к. 411
END:VEVENT
BEGIN:VEVENT
UID:c4rt@192.168.245.71:3006
SEQUENCE:0
DTSTAMP:20260421T184050Z
DTSTART:20260514T130000Z
DTEND:20260514T144000Z
SUMMARY:Математическое моделирование в научных исследованиях
LOCATION:2 к. 411
END:VEVENT
BEGIN:VEVENT
UID:9e6m@192.168.245.71:3006
SEQUENCE:0
DTSTAMP:20260421T184050Z
DTSTART:20260514T150000Z
DTEND:20260514T164000Z
SUMMARY:Математическое моделирование в научных исследованиях
LOCATION:2 к. 416
END:VEVENT
END:VCALENDAR