BEGIN:VCALENDAR
VERSION:2.0
PRODID:-//spbstu.ru//ical//RU
NAME:Расписание
X-WR-CALNAME:Расписание
TIMEZONE-ID:Europe/Moscow
X-WR-TIMEZONE:Europe/Moscow
BEGIN:VEVENT
UID:4mdn@192.168.245.71:3006
SEQUENCE:0
DTSTAMP:20260423T220156Z
DTSTART:20251118T090000Z
DTEND:20251118T104000Z
SUMMARY:Гидроузлы комплексного назначения
LOCATION:ГК-2 507
END:VEVENT
BEGIN:VEVENT
UID:v5t4@192.168.245.71:3006
SEQUENCE:0
DTSTAMP:20260423T220156Z
DTSTART:20251120T090000Z
DTEND:20251120T104000Z
SUMMARY:Реконструкция зданий и сооружений
LOCATION:ГК-2 304
END:VEVENT
BEGIN:VEVENT
UID:vjwh@192.168.245.71:3006
SEQUENCE:0
DTSTAMP:20260423T220156Z
DTSTART:20251120T110000Z
DTEND:20251120T124000Z
SUMMARY:Реконструкция зданий и сооружений
LOCATION:ГК-2 304
END:VEVENT
END:VCALENDAR