BEGIN:VCALENDAR
VERSION:2.0
PRODID:-//spbstu.ru//ical//RU
NAME:Расписание
X-WR-CALNAME:Расписание
TIMEZONE-ID:Europe/Moscow
X-WR-TIMEZONE:Europe/Moscow
BEGIN:VEVENT
UID:hrzd@192.168.245.71:3006
SEQUENCE:0
DTSTAMP:20260422T110722Z
DTSTART:20260224T090000Z
DTEND:20260224T104000Z
SUMMARY:Водоподпорные ГТС
LOCATION:ГК-2 508
END:VEVENT
BEGIN:VEVENT
UID:ckkw@192.168.245.71:3006
SEQUENCE:0
DTSTAMP:20260422T110722Z
DTSTART:20260224T110000Z
DTEND:20260224T124000Z
SUMMARY:Водоподпорные ГТС
LOCATION:ГК-2 508
END:VEVENT
BEGIN:VEVENT
UID:ata9@192.168.245.71:3006
SEQUENCE:0
DTSTAMP:20260422T110722Z
DTSTART:20260225T090000Z
DTEND:20260225T104000Z
SUMMARY:Речные ГТС
LOCATION:ГК-2 507
END:VEVENT
BEGIN:VEVENT
UID:qtec@192.168.245.71:3006
SEQUENCE:0
DTSTAMP:20260422T110722Z
DTSTART:20260225T110000Z
DTEND:20260225T124000Z
SUMMARY:Речные ГТС
LOCATION:ГК-2 507
END:VEVENT
BEGIN:VEVENT
UID:pfq2@192.168.245.71:3006
SEQUENCE:0
DTSTAMP:20260422T110722Z
DTSTART:20260226T090000Z
DTEND:20260226T104000Z
SUMMARY:Противопаводковые ГТС
LOCATION:ГК-2 508
END:VEVENT
BEGIN:VEVENT
UID:fat4@192.168.245.71:3006
SEQUENCE:0
DTSTAMP:20260422T110722Z
DTSTART:20260226T110000Z
DTEND:20260226T124000Z
SUMMARY:Противопаводковые ГТС
LOCATION:ГК-2 508
END:VEVENT
END:VCALENDAR