BEGIN:VCALENDAR
VERSION:2.0
PRODID:-//spbstu.ru//ical//RU
NAME:Расписание
X-WR-CALNAME:Расписание
TIMEZONE-ID:Europe/Moscow
X-WR-TIMEZONE:Europe/Moscow
BEGIN:VEVENT
UID:hdl7@192.168.245.71:3006
SEQUENCE:0
DTSTAMP:20260422T140810Z
DTSTART:20260210T090000Z
DTEND:20260210T104000Z
SUMMARY:Водоподпорные ГТС
LOCATION:ГК-2 508
END:VEVENT
BEGIN:VEVENT
UID:ckzl@192.168.245.71:3006
SEQUENCE:0
DTSTAMP:20260422T140810Z
DTSTART:20260210T110000Z
DTEND:20260210T124000Z
SUMMARY:Водоподпорные ГТС
LOCATION:ГК-2 508
END:VEVENT
BEGIN:VEVENT
UID:vgdm@192.168.245.71:3006
SEQUENCE:0
DTSTAMP:20260422T140810Z
DTSTART:20260210T130000Z
DTEND:20260210T144000Z
SUMMARY:Водоподпорные ГТС
LOCATION:ГК-2 508
END:VEVENT
BEGIN:VEVENT
UID:3x4s@192.168.245.71:3006
SEQUENCE:0
DTSTAMP:20260422T140810Z
DTSTART:20260210T150000Z
DTEND:20260210T164000Z
SUMMARY:Гидроузлы комплексного назначения
LOCATION:ГК-2 502
END:VEVENT
BEGIN:VEVENT
UID:xi3r@192.168.245.71:3006
SEQUENCE:0
DTSTAMP:20260422T140810Z
DTSTART:20260211T090000Z
DTEND:20260211T104000Z
SUMMARY:Речные ГТС
LOCATION:ГК-2 507
END:VEVENT
BEGIN:VEVENT
UID:hw9i@192.168.245.71:3006
SEQUENCE:0
DTSTAMP:20260422T140810Z
DTSTART:20260211T110000Z
DTEND:20260211T124000Z
SUMMARY:Речные ГТС
LOCATION:ГК-2 507
END:VEVENT
BEGIN:VEVENT
UID:281z@192.168.245.71:3006
SEQUENCE:0
DTSTAMP:20260422T140810Z
DTSTART:20260212T090000Z
DTEND:20260212T104000Z
SUMMARY:Противопаводковые ГТС
LOCATION:ГК-2 508
END:VEVENT
BEGIN:VEVENT
UID:tfke@192.168.245.71:3006
SEQUENCE:0
DTSTAMP:20260422T140810Z
DTSTART:20260212T110000Z
DTEND:20260212T124000Z
SUMMARY:Противопаводковые ГТС
LOCATION:ГК-2 508
END:VEVENT
END:VCALENDAR