BEGIN:VCALENDAR
VERSION:2.0
PRODID:-//spbstu.ru//ical//RU
NAME:Расписание
X-WR-CALNAME:Расписание
TIMEZONE-ID:Europe/Moscow
X-WR-TIMEZONE:Europe/Moscow
BEGIN:VEVENT
UID:09ej@192.168.245.71:3006
SEQUENCE:0
DTSTAMP:20260424T013242Z
DTSTART:20251110T130000Z
DTEND:20251110T144000Z
SUMMARY:Введение в профессиональную деятельность
LOCATION:DL Дистанционно
END:VEVENT
BEGIN:VEVENT
UID:hy4z@192.168.245.71:3006
SEQUENCE:0
DTSTAMP:20260424T013242Z
DTSTART:20251110T150000Z
DTEND:20251110T164000Z
SUMMARY:Введение в профессиональную деятельность
LOCATION:DL Дистанционно
END:VEVENT
BEGIN:VEVENT
UID:0htv@192.168.245.71:3006
SEQUENCE:0
DTSTAMP:20260424T013242Z
DTSTART:20251111T110000Z
DTEND:20251111T124000Z
SUMMARY:Технологии верификации и тестирования программного обеспечения
LOCATION:3 к. 101
END:VEVENT
BEGIN:VEVENT
UID:cxnn@192.168.245.71:3006
SEQUENCE:0
DTSTAMP:20260424T013242Z
DTSTART:20251111T110000Z
DTEND:20251111T124000Z
SUMMARY:Технологии верификации и тестирования программного обеспечения
LOCATION:3 к. 101
END:VEVENT
BEGIN:VEVENT
UID:gvyc@192.168.245.71:3006
SEQUENCE:0
DTSTAMP:20260424T013242Z
DTSTART:20251112T130000Z
DTEND:20251112T144000Z
SUMMARY:Введение в профессиональную деятельность
LOCATION:3 к. 201
END:VEVENT
BEGIN:VEVENT
UID:pb63@192.168.245.71:3006
SEQUENCE:0
DTSTAMP:20260424T013242Z
DTSTART:20251112T130000Z
DTEND:20251112T144000Z
SUMMARY:Введение в профессиональную деятельность
LOCATION:3 к. 201
END:VEVENT
END:VCALENDAR