BEGIN:VCALENDAR
VERSION:2.0
PRODID:-//spbstu.ru//ical//RU
NAME:Расписание
X-WR-CALNAME:Расписание
TIMEZONE-ID:Europe/Moscow
X-WR-TIMEZONE:Europe/Moscow
BEGIN:VEVENT
UID:g9fw@192.168.245.71:3006
SEQUENCE:0
DTSTAMP:20260423T172835Z
DTSTART:20251210T070000Z
DTEND:20251210T084000Z
SUMMARY:Научно-технический перевод
LOCATION:9 к. 208
END:VEVENT
BEGIN:VEVENT
UID:cv56@192.168.245.71:3006
SEQUENCE:0
DTSTAMP:20260423T172835Z
DTSTART:20251210T090000Z
DTEND:20251210T104000Z
SUMMARY:Научно-технический перевод
LOCATION:9 к. 208
END:VEVENT
END:VCALENDAR