BEGIN:VCALENDAR
VERSION:2.0
PRODID:-//spbstu.ru//ical//RU
NAME:Расписание
X-WR-CALNAME:Расписание
TIMEZONE-ID:Europe/Moscow
X-WR-TIMEZONE:Europe/Moscow
BEGIN:VEVENT
UID:9k74@192.168.245.71:3006
SEQUENCE:0
DTSTAMP:20260422T011241Z
DTSTART:20260217T110000Z
DTEND:20260217T124000Z
SUMMARY:Практикум по устному переводу
LOCATION:6 к. конф. зал
END:VEVENT
BEGIN:VEVENT
UID:yyhb@192.168.245.71:3006
SEQUENCE:0
DTSTAMP:20260422T011241Z
DTSTART:20260217T130000Z
DTEND:20260217T144000Z
SUMMARY:Практикум по устному переводу
LOCATION:6 к. конф. зал
END:VEVENT
BEGIN:VEVENT
UID:v6tc@192.168.245.71:3006
SEQUENCE:0
DTSTAMP:20260422T011241Z
DTSTART:20260217T144000Z
DTEND:20260217T161500Z
SUMMARY:Практический курс первого иностранного языка
LOCATION:6 к. конф. зал
END:VEVENT
BEGIN:VEVENT
UID:bxjz@192.168.245.71:3006
SEQUENCE:0
DTSTAMP:20260422T011241Z
DTSTART:20260217T144500Z
DTEND:20260217T161500Z
SUMMARY:История языка (английский язык)
LOCATION:6 к. конф. зал
END:VEVENT
BEGIN:VEVENT
UID:koid@192.168.245.71:3006
SEQUENCE:0
DTSTAMP:20260422T011241Z
DTSTART:20260218T070000Z
DTEND:20260218T084000Z
SUMMARY:Письменный перевод (английский язык)
LOCATION:6 к. конф. зал
END:VEVENT
BEGIN:VEVENT
UID:93nf@192.168.245.71:3006
SEQUENCE:0
DTSTAMP:20260422T011241Z
DTSTART:20260219T070000Z
DTEND:20260219T084000Z
SUMMARY:Устный последовательный перевод (английский язык)
LOCATION:6 к. конф. зал
END:VEVENT
BEGIN:VEVENT
UID:pp1f@192.168.245.71:3006
SEQUENCE:0
DTSTAMP:20260422T011241Z
DTSTART:20260219T090000Z
DTEND:20260219T104000Z
SUMMARY:Письменный перевод (английский язык)
LOCATION:6 к. конф. зал
END:VEVENT
BEGIN:VEVENT
UID:m3jd@192.168.245.71:3006
SEQUENCE:0
DTSTAMP:20260422T011241Z
DTSTART:20260219T110000Z
DTEND:20260219T124000Z
SUMMARY:Устный последовательный перевод (английский язык)
LOCATION:6 к. конф. зал
END:VEVENT
BEGIN:VEVENT
UID:q3jm@192.168.245.71:3006
SEQUENCE:0
DTSTAMP:20260422T011241Z
DTSTART:20260219T130000Z
DTEND:20260219T144000Z
SUMMARY:Основы проектной деятельности
LOCATION:6 к. конф. зал
END:VEVENT
END:VCALENDAR