BEGIN:VCALENDAR
VERSION:2.0
PRODID:-//spbstu.ru//ical//RU
NAME:Расписание
X-WR-CALNAME:Расписание
TIMEZONE-ID:Europe/Moscow
X-WR-TIMEZONE:Europe/Moscow
BEGIN:VEVENT
UID:c64h@192.168.245.71:3006
SEQUENCE:0
DTSTAMP:20260421T132534Z
DTSTART:20260324T110000Z
DTEND:20260324T124000Z
SUMMARY:Практикум по устному переводу
LOCATION:6 к. конф. зал
END:VEVENT
BEGIN:VEVENT
UID:i6g0@192.168.245.71:3006
SEQUENCE:0
DTSTAMP:20260421T132534Z
DTSTART:20260324T130000Z
DTEND:20260324T144000Z
SUMMARY:Практикум по устному переводу
LOCATION:6 к. конф. зал
END:VEVENT
BEGIN:VEVENT
UID:7mrw@192.168.245.71:3006
SEQUENCE:0
DTSTAMP:20260421T132534Z
DTSTART:20260325T070000Z
DTEND:20260325T084000Z
SUMMARY:Письменный перевод (английский язык)
LOCATION:6 к. конф. зал
END:VEVENT
BEGIN:VEVENT
UID:4ar8@192.168.245.71:3006
SEQUENCE:0
DTSTAMP:20260421T132534Z
DTSTART:20260325T090000Z
DTEND:20260325T104000Z
SUMMARY:Практикум по устному переводу
LOCATION:6 к. конф. зал
END:VEVENT
BEGIN:VEVENT
UID:ut2v@192.168.245.71:3006
SEQUENCE:0
DTSTAMP:20260421T132534Z
DTSTART:20260326T070000Z
DTEND:20260326T084000Z
SUMMARY:Практикум по устному переводу
LOCATION:6 к. конф. зал
END:VEVENT
BEGIN:VEVENT
UID:b7ks@192.168.245.71:3006
SEQUENCE:0
DTSTAMP:20260421T132534Z
DTSTART:20260326T090000Z
DTEND:20260326T104000Z
SUMMARY:Письменный перевод (английский язык)
LOCATION:6 к. конф. зал
END:VEVENT
BEGIN:VEVENT
UID:h4mv@192.168.245.71:3006
SEQUENCE:0
DTSTAMP:20260421T132534Z
DTSTART:20260326T110000Z
DTEND:20260326T124000Z
SUMMARY:Устный последовательный перевод (английский язык)
LOCATION:6 к. конф. зал
END:VEVENT
BEGIN:VEVENT
UID:3d0g@192.168.245.71:3006
SEQUENCE:0
DTSTAMP:20260421T132534Z
DTSTART:20260326T130000Z
DTEND:20260326T144000Z
SUMMARY:Устный последовательный перевод (английский язык)
LOCATION:6 к. конф. зал
END:VEVENT
BEGIN:VEVENT
UID:97js@192.168.245.71:3006
SEQUENCE:0
DTSTAMP:20260421T132534Z
DTSTART:20260328T070000Z
DTEND:20260328T084000Z
SUMMARY:История языка (английский язык)
LOCATION:6 к. 18
END:VEVENT
BEGIN:VEVENT
UID:ia9s@192.168.245.71:3006
SEQUENCE:0
DTSTAMP:20260421T132534Z
DTSTART:20260328T090000Z
DTEND:20260328T104000Z
SUMMARY:История языка (английский язык)
LOCATION:6 к. 18
END:VEVENT
END:VCALENDAR