BEGIN:VCALENDAR
VERSION:2.0
PRODID:-//spbstu.ru//ical//RU
NAME:Расписание
X-WR-CALNAME:Расписание
TIMEZONE-ID:Europe/Moscow
X-WR-TIMEZONE:Europe/Moscow
BEGIN:VEVENT
UID:ru01@192.168.245.71:3006
SEQUENCE:0
DTSTAMP:20260421T070321Z
DTSTART:20260429T070000Z
DTEND:20260429T084000Z
SUMMARY:Письменный перевод (английский язык)
LOCATION:6 к. конф. зал
END:VEVENT
BEGIN:VEVENT
UID:t08b@192.168.245.71:3006
SEQUENCE:0
DTSTAMP:20260421T070321Z
DTSTART:20260430T070000Z
DTEND:20260430T084000Z
SUMMARY:Устный последовательный перевод (английский язык)
LOCATION:6 к. конф. зал
END:VEVENT
BEGIN:VEVENT
UID:8afw@192.168.245.71:3006
SEQUENCE:0
DTSTAMP:20260421T070321Z
DTSTART:20260430T090000Z
DTEND:20260430T104000Z
SUMMARY:Письменный перевод (английский язык)
LOCATION:6 к. конф. зал
END:VEVENT
BEGIN:VEVENT
UID:ye8d@192.168.245.71:3006
SEQUENCE:0
DTSTAMP:20260421T070321Z
DTSTART:20260430T110000Z
DTEND:20260430T124000Z
SUMMARY:Устный последовательный перевод (английский язык)
LOCATION:6 к. конф. зал
END:VEVENT
END:VCALENDAR