BEGIN:VCALENDAR
VERSION:2.0
PRODID:-//spbstu.ru//ical//RU
NAME:Расписание
X-WR-CALNAME:Расписание
TIMEZONE-ID:Europe/Moscow
X-WR-TIMEZONE:Europe/Moscow
BEGIN:VEVENT
UID:fr2p@192.168.245.71:3006
SEQUENCE:0
DTSTAMP:20260422T203609Z
DTSTART:20260116T070000Z
DTEND:20260116T074500Z
SUMMARY:Физика
LOCATION:ГЗ 257
END:VEVENT
BEGIN:VEVENT
UID:jgoq@192.168.245.71:3006
SEQUENCE:0
DTSTAMP:20260422T203609Z
DTSTART:20260117T070000Z
DTEND:20260117T130000Z
SUMMARY:Физика
LOCATION:ГЗ 278
END:VEVENT
END:VCALENDAR