BEGIN:VCALENDAR
VERSION:2.0
PRODID:-//spbstu.ru//ical//RU
NAME:Расписание
X-WR-CALNAME:Расписание
TIMEZONE-ID:Europe/Moscow
X-WR-TIMEZONE:Europe/Moscow
BEGIN:VEVENT
UID:tds9@192.168.245.71:3006
SEQUENCE:0
DTSTAMP:20260421T114721Z
DTSTART:20260225T090000Z
DTEND:20260225T104000Z
SUMMARY:Физика
LOCATION:ГЗ 242
END:VEVENT
BEGIN:VEVENT
UID:0j5t@192.168.245.71:3006
SEQUENCE:0
DTSTAMP:20260421T114721Z
DTSTART:20260225T110000Z
DTEND:20260225T124000Z
SUMMARY:Физика
LOCATION:ГЗ 186 А
END:VEVENT
BEGIN:VEVENT
UID:4na1@192.168.245.71:3006
SEQUENCE:0
DTSTAMP:20260421T114721Z
DTSTART:20260225T130000Z
DTEND:20260225T144000Z
SUMMARY:Физика
LOCATION:ГЗ 242
END:VEVENT
BEGIN:VEVENT
UID:anym@192.168.245.71:3006
SEQUENCE:0
DTSTAMP:20260421T114721Z
DTSTART:20260225T150000Z
DTEND:20260225T154500Z
SUMMARY:Физика
LOCATION:ГЗ 324
END:VEVENT
BEGIN:VEVENT
UID:oh60@192.168.245.71:3006
SEQUENCE:0
DTSTAMP:20260421T114721Z
DTSTART:20260226T070000Z
DTEND:20260226T084000Z
SUMMARY:Физика
LOCATION:ГЗ 153
END:VEVENT
BEGIN:VEVENT
UID:wywe@192.168.245.71:3006
SEQUENCE:0
DTSTAMP:20260421T114721Z
DTSTART:20260226T090000Z
DTEND:20260226T104000Z
SUMMARY:Физика
LOCATION:ГЗ 152
END:VEVENT
BEGIN:VEVENT
UID:x27q@192.168.245.71:3006
SEQUENCE:0
DTSTAMP:20260421T114721Z
DTSTART:20260226T110000Z
DTEND:20260226T124000Z
SUMMARY:Физика
LOCATION:ГЗ 186 А
END:VEVENT
BEGIN:VEVENT
UID:jpvg@192.168.245.71:3006
SEQUENCE:0
DTSTAMP:20260421T114721Z
DTSTART:20260226T150000Z
DTEND:20260226T154500Z
SUMMARY:Физика
LOCATION:ГЗ 324
END:VEVENT
BEGIN:VEVENT
UID:x0j3@192.168.245.71:3006
SEQUENCE:0
DTSTAMP:20260421T114721Z
DTSTART:20260227T070000Z
DTEND:20260227T084000Z
SUMMARY:Физика
LOCATION:ГЗ 155
END:VEVENT
BEGIN:VEVENT
UID:qtmj@192.168.245.71:3006
SEQUENCE:0
DTSTAMP:20260421T114721Z
DTSTART:20260227T090000Z
DTEND:20260227T104000Z
SUMMARY:Физика
LOCATION:ГЗ 186 А
END:VEVENT
BEGIN:VEVENT
UID:y1ho@192.168.245.71:3006
SEQUENCE:0
DTSTAMP:20260421T114721Z
DTSTART:20260227T110000Z
DTEND:20260227T124000Z
SUMMARY:Физика
LOCATION:ГЗ 152
END:VEVENT
BEGIN:VEVENT
UID:x6ro@192.168.245.71:3006
SEQUENCE:0
DTSTAMP:20260421T114721Z
DTSTART:20260227T130000Z
DTEND:20260227T160000Z
SUMMARY:Физика
LOCATION:ГЗ 241
END:VEVENT
END:VCALENDAR