BEGIN:VCALENDAR
VERSION:2.0
PRODID:-//spbstu.ru//ical//RU
NAME:Расписание
X-WR-CALNAME:Расписание
TIMEZONE-ID:Europe/Moscow
X-WR-TIMEZONE:Europe/Moscow
BEGIN:VEVENT
UID:fdyq@192.168.245.71:3006
SEQUENCE:0
DTSTAMP:20260424T215356Z
DTSTART:20251013T050000Z
DTEND:20251013T064000Z
SUMMARY:Испанский язык: Профессионально-ориентированный курс
LOCATION:16 к. 113
END:VEVENT
BEGIN:VEVENT
UID:nknq@192.168.245.71:3006
SEQUENCE:0
DTSTAMP:20260424T215356Z
DTSTART:20251013T070000Z
DTEND:20251013T084000Z
SUMMARY:Испанский язык: Профессионально-ориентированный курс
LOCATION:16 к. 113
END:VEVENT
BEGIN:VEVENT
UID:kdij@192.168.245.71:3006
SEQUENCE:0
DTSTAMP:20260424T215356Z
DTSTART:20251016T050000Z
DTEND:20251016T064000Z
SUMMARY:Испанский язык: Профессионально-ориентированный курс
LOCATION:16 к. 113
END:VEVENT
BEGIN:VEVENT
UID:bepr@192.168.245.71:3006
SEQUENCE:0
DTSTAMP:20260424T215356Z
DTSTART:20251016T070000Z
DTEND:20251016T084000Z
SUMMARY:Испанский язык: Профессионально-ориентированный курс
LOCATION:16 к. 113
END:VEVENT
BEGIN:VEVENT
UID:1tc2@192.168.245.71:3006
SEQUENCE:0
DTSTAMP:20260424T215356Z
DTSTART:20251016T090000Z
DTEND:20251016T104000Z
SUMMARY:Испанский язык
LOCATION:16 к. 113
END:VEVENT
BEGIN:VEVENT
UID:1kg9@192.168.245.71:3006
SEQUENCE:0
DTSTAMP:20260424T215356Z
DTSTART:20251016T110000Z
DTEND:20251016T124000Z
SUMMARY:Испанский язык
LOCATION:16 к. 113
END:VEVENT
BEGIN:VEVENT
UID:rzfn@192.168.245.71:3006
SEQUENCE:0
DTSTAMP:20260424T215356Z
DTSTART:20251018T070000Z
DTEND:20251018T084000Z
SUMMARY:Испанский язык
LOCATION:16 к. 113
END:VEVENT
BEGIN:VEVENT
UID:4vsz@192.168.245.71:3006
SEQUENCE:0
DTSTAMP:20260424T215356Z
DTSTART:20251018T090000Z
DTEND:20251018T104000Z
SUMMARY:Испанский язык
LOCATION:16 к. 113
END:VEVENT
BEGIN:VEVENT
UID:yl6v@192.168.245.71:3006
SEQUENCE:0
DTSTAMP:20260424T215356Z
DTSTART:20251018T110000Z
DTEND:20251018T124000Z
SUMMARY:Испанский язык: Профессионально-ориентированный курс
LOCATION:16 к. 113
END:VEVENT
BEGIN:VEVENT
UID:gku1@192.168.245.71:3006
SEQUENCE:0
DTSTAMP:20260424T215356Z
DTSTART:20251018T130000Z
DTEND:20251018T144000Z
SUMMARY:Испанский язык: Профессионально-ориентированный курс
LOCATION:16 к. 113
END:VEVENT
END:VCALENDAR