BEGIN:VCALENDAR
VERSION:2.0
PRODID:-//spbstu.ru//ical//RU
NAME:Расписание
X-WR-CALNAME:Расписание
TIMEZONE-ID:Europe/Moscow
X-WR-TIMEZONE:Europe/Moscow
BEGIN:VEVENT
UID:2npx@192.168.245.71:3006
SEQUENCE:0
DTSTAMP:20260422T002506Z
DTSTART:20260401T110000Z
DTEND:20260401T124000Z
SUMMARY:Испанский язык: Профессионально-ориентированный курс
LOCATION:16 к. 113
END:VEVENT
BEGIN:VEVENT
UID:ihtc@192.168.245.71:3006
SEQUENCE:0
DTSTAMP:20260422T002506Z
DTSTART:20260404T070000Z
DTEND:20260404T084000Z
SUMMARY:Испанский язык: Профессионально-ориентированный курс
LOCATION:16 к. 113
END:VEVENT
BEGIN:VEVENT
UID:gmto@192.168.245.71:3006
SEQUENCE:0
DTSTAMP:20260422T002506Z
DTSTART:20260404T090000Z
DTEND:20260404T104000Z
SUMMARY:Испанский язык: Профессионально-ориентированный курс
LOCATION:16 к. 113
END:VEVENT
END:VCALENDAR