BEGIN:VCALENDAR
VERSION:2.0
PRODID:-//spbstu.ru//ical//RU
NAME:Расписание
X-WR-CALNAME:Расписание
TIMEZONE-ID:Europe/Moscow
X-WR-TIMEZONE:Europe/Moscow
BEGIN:VEVENT
UID:1wav@192.168.245.71:3006
SEQUENCE:0
DTSTAMP:20260423T173141Z
DTSTART:20251211T070000Z
DTEND:20251211T084000Z
SUMMARY:Технология машиностроения
LOCATION:Мех. к. каф.Т М
END:VEVENT
BEGIN:VEVENT
UID:w7aw@192.168.245.71:3006
SEQUENCE:0
DTSTAMP:20260423T173141Z
DTSTART:20251212T110000Z
DTEND:20251212T124000Z
SUMMARY:Диагностика\, ремонт и обслуживание автомобиля
LOCATION:Мех. к. каф.Т М
END:VEVENT
BEGIN:VEVENT
UID:i6zh@192.168.245.71:3006
SEQUENCE:0
DTSTAMP:20260423T173141Z
DTSTART:20251212T130000Z
DTEND:20251212T144000Z
SUMMARY:Диагностика\, ремонт и обслуживание автомобиля
LOCATION:Мех. к. каф.Т М
END:VEVENT
END:VCALENDAR