BEGIN:VCALENDAR
VERSION:2.0
PRODID:-//spbstu.ru//ical//RU
NAME:Расписание
X-WR-CALNAME:Расписание
TIMEZONE-ID:Europe/Moscow
X-WR-TIMEZONE:Europe/Moscow
BEGIN:VEVENT
UID:cguz@192.168.245.71:3006
SEQUENCE:0
DTSTAMP:20260421T152152Z
DTSTART:20260318T110000Z
DTEND:20260318T124000Z
SUMMARY:Числовое программное оборудование машиностроительных производств
LOCATION:Мех. к. каф.Т М
END:VEVENT
BEGIN:VEVENT
UID:j0ue@192.168.245.71:3006
SEQUENCE:0
DTSTAMP:20260421T152152Z
DTSTART:20260318T130000Z
DTEND:20260318T135000Z
SUMMARY:Числовое программное оборудование машиностроительных производств
LOCATION:Мех. к. каф.Т М
END:VEVENT
BEGIN:VEVENT
UID:1muh@192.168.245.71:3006
SEQUENCE:0
DTSTAMP:20260421T152152Z
DTSTART:20260319T070000Z
DTEND:20260319T084000Z
SUMMARY:Оборудование машиностроительных производств
LOCATION:Мех. к. каф.Т М
END:VEVENT
BEGIN:VEVENT
UID:nc7m@192.168.245.71:3006
SEQUENCE:0
DTSTAMP:20260421T152152Z
DTSTART:20260320T090000Z
DTEND:20260320T104000Z
SUMMARY:Проектирование и сборка автомобиля
LOCATION:Мех. к. каф.Т М
END:VEVENT
BEGIN:VEVENT
UID:egkm@192.168.245.71:3006
SEQUENCE:0
DTSTAMP:20260421T152152Z
DTSTART:20260320T110000Z
DTEND:20260320T124000Z
SUMMARY:Проектирование и сборка автомобиля
LOCATION:Мех. к. каф.Т М
END:VEVENT
BEGIN:VEVENT
UID:xu27@192.168.245.71:3006
SEQUENCE:0
DTSTAMP:20260421T152152Z
DTSTART:20260320T130000Z
DTEND:20260320T144000Z
SUMMARY:Оборудование машиностроительных производств
LOCATION:Мех. к. каф.Т М
END:VEVENT
END:VCALENDAR