BEGIN:VCALENDAR
VERSION:2.0
PRODID:-//spbstu.ru//ical//RU
NAME:Расписание
X-WR-CALNAME:Расписание
TIMEZONE-ID:Europe/Moscow
X-WR-TIMEZONE:Europe/Moscow
BEGIN:VEVENT
UID:qa0s@192.168.245.71:3006
SEQUENCE:0
DTSTAMP:20260424T031513Z
DTSTART:20251013T090000Z
DTEND:20251013T104000Z
SUMMARY:Железобетонные конструкции
LOCATION:ГК-2 407
END:VEVENT
BEGIN:VEVENT
UID:m1dm@192.168.245.71:3006
SEQUENCE:0
DTSTAMP:20260424T031513Z
DTSTART:20251013T130000Z
DTEND:20251013T144000Z
SUMMARY:Железобетонные конструкции
LOCATION:ГК-2 110
END:VEVENT
BEGIN:VEVENT
UID:c5mc@192.168.245.71:3006
SEQUENCE:0
DTSTAMP:20260424T031513Z
DTSTART:20251014T110000Z
DTEND:20251014T124000Z
SUMMARY:Железобетонные конструкции
LOCATION:ГК 230
END:VEVENT
BEGIN:VEVENT
UID:9hs9@192.168.245.71:3006
SEQUENCE:0
DTSTAMP:20260424T031513Z
DTSTART:20251017T110000Z
DTEND:20251017T124000Z
SUMMARY:Железобетонные конструкции
LOCATION:ГК-2 110
END:VEVENT
BEGIN:VEVENT
UID:08sx@192.168.245.71:3006
SEQUENCE:0
DTSTAMP:20260424T031513Z
DTSTART:20251017T130000Z
DTEND:20251017T144000Z
SUMMARY:Железобетонные конструкции
LOCATION:ГК-2 110
END:VEVENT
END:VCALENDAR