BEGIN:VCALENDAR
VERSION:2.0
PRODID:-//spbstu.ru//ical//RU
NAME:Расписание
X-WR-CALNAME:Расписание
TIMEZONE-ID:Europe/Moscow
X-WR-TIMEZONE:Europe/Moscow
BEGIN:VEVENT
UID:xqqq@192.168.245.71:3006
SEQUENCE:0
DTSTAMP:20260423T215951Z
DTSTART:20251020T090000Z
DTEND:20251020T104000Z
SUMMARY:Железобетонные конструкции
LOCATION:ГК-2 407
END:VEVENT
BEGIN:VEVENT
UID:9eas@192.168.245.71:3006
SEQUENCE:0
DTSTAMP:20260423T215951Z
DTSTART:20251020T130000Z
DTEND:20251020T144000Z
SUMMARY:Железобетонные конструкции
LOCATION:ГК-2 110
END:VEVENT
BEGIN:VEVENT
UID:3mvt@192.168.245.71:3006
SEQUENCE:0
DTSTAMP:20260423T215951Z
DTSTART:20251021T110000Z
DTEND:20251021T124000Z
SUMMARY:Железобетонные конструкции
LOCATION:ГК 230
END:VEVENT
BEGIN:VEVENT
UID:buga@192.168.245.71:3006
SEQUENCE:0
DTSTAMP:20260423T215951Z
DTSTART:20251024T110000Z
DTEND:20251024T124000Z
SUMMARY:Железобетонные конструкции
LOCATION:ГК-2 110
END:VEVENT
BEGIN:VEVENT
UID:l33g@192.168.245.71:3006
SEQUENCE:0
DTSTAMP:20260423T215951Z
DTSTART:20251024T130000Z
DTEND:20251024T144000Z
SUMMARY:Железобетонные конструкции
LOCATION:ГК-2 110
END:VEVENT
END:VCALENDAR