BEGIN:VCALENDAR
VERSION:2.0
PRODID:-//spbstu.ru//ical//RU
NAME:Расписание
X-WR-CALNAME:Расписание
TIMEZONE-ID:Europe/Moscow
X-WR-TIMEZONE:Europe/Moscow
BEGIN:VEVENT
UID:w9ff@192.168.245.71:3006
SEQUENCE:0
DTSTAMP:20260421T081358Z
DTSTART:20260325T130000Z
DTEND:20260325T144000Z
SUMMARY:Метрологическое обеспечение технологических параметров производств
 а
LOCATION:Мех. к. каф.Т М
END:VEVENT
BEGIN:VEVENT
UID:pys9@192.168.245.71:3006
SEQUENCE:0
DTSTAMP:20260421T081358Z
DTSTART:20260325T150000Z
DTEND:20260325T164000Z
SUMMARY:Метрологическое обеспечение технологических параметров производств
 а
LOCATION:Мех. к. каф.Т М
END:VEVENT
END:VCALENDAR