BEGIN:VCALENDAR
VERSION:2.0
PRODID:-//spbstu.ru//ical//RU
NAME:Расписание
X-WR-CALNAME:Расписание
TIMEZONE-ID:Europe/Moscow
X-WR-TIMEZONE:Europe/Moscow
BEGIN:VEVENT
UID:54yq@192.168.245.71:3006
SEQUENCE:0
DTSTAMP:20260423T195409Z
DTSTART:20251210T090000Z
DTEND:20251210T104000Z
SUMMARY:Физика конденсированного состояния
LOCATION:2 к. 470
END:VEVENT
BEGIN:VEVENT
UID:w11v@192.168.245.71:3006
SEQUENCE:0
DTSTAMP:20260423T195409Z
DTSTART:20251211T110000Z
DTEND:20251211T124000Z
SUMMARY:Физические основы молекулярной электроники
LOCATION:2 к. 359
END:VEVENT
END:VCALENDAR