BEGIN:VCALENDAR
VERSION:2.0
PRODID:-//spbstu.ru//ical//RU
NAME:Расписание
X-WR-CALNAME:Расписание
TIMEZONE-ID:Europe/Moscow
X-WR-TIMEZONE:Europe/Moscow
BEGIN:VEVENT
UID:4lcu@192.168.245.71:3006
SEQUENCE:0
DTSTAMP:20260422T081337Z
DTSTART:20260211T090000Z
DTEND:20260211T104000Z
SUMMARY:Материалы органической электроники
LOCATION:2 к. 458
END:VEVENT
BEGIN:VEVENT
UID:isbi@192.168.245.71:3006
SEQUENCE:0
DTSTAMP:20260422T081337Z
DTSTART:20260212T090000Z
DTEND:20260212T104000Z
SUMMARY:Физика конденсированного состояния
LOCATION:2 к. 359
END:VEVENT
BEGIN:VEVENT
UID:t7hb@192.168.245.71:3006
SEQUENCE:0
DTSTAMP:20260422T081337Z
DTSTART:20260212T130000Z
DTEND:20260212T140000Z
SUMMARY:Физические основы молекулярной электроники
LOCATION:2 к. 458
END:VEVENT
END:VCALENDAR