BEGIN:VCALENDAR
VERSION:2.0
PRODID:-//spbstu.ru//ical//RU
NAME:Расписание
X-WR-CALNAME:Расписание
TIMEZONE-ID:Europe/Moscow
X-WR-TIMEZONE:Europe/Moscow
BEGIN:VEVENT
UID:cysn@192.168.245.71:3006
SEQUENCE:0
DTSTAMP:20260423T063050Z
DTSTART:20250915T070000Z
DTEND:20250915T084000Z
SUMMARY:Техническая защита информации
LOCATION:ГЗ 165
END:VEVENT
BEGIN:VEVENT
UID:lqa7@192.168.245.71:3006
SEQUENCE:0
DTSTAMP:20260423T063050Z
DTSTART:20250915T090000Z
DTEND:20250915T104000Z
SUMMARY:Техническая защита информации
LOCATION:ГЗ 165
END:VEVENT
BEGIN:VEVENT
UID:tbg9@192.168.245.71:3006
SEQUENCE:0
DTSTAMP:20260423T063050Z
DTSTART:20250915T110000Z
DTEND:20250915T124000Z
SUMMARY:Электроника и схемотехника
LOCATION:ГЗ 171
END:VEVENT
BEGIN:VEVENT
UID:9xuz@192.168.245.71:3006
SEQUENCE:0
DTSTAMP:20260423T063050Z
DTSTART:20250915T130000Z
DTEND:20250915T144000Z
SUMMARY:Электроника и схемотехника
LOCATION:ГЗ 171
END:VEVENT
BEGIN:VEVENT
UID:tn9z@192.168.245.71:3006
SEQUENCE:0
DTSTAMP:20260423T063050Z
DTSTART:20250916T070000Z
DTEND:20250916T084000Z
SUMMARY:Электроника и схемотехника
LOCATION:ГЗ 235
END:VEVENT
BEGIN:VEVENT
UID:x68w@192.168.245.71:3006
SEQUENCE:0
DTSTAMP:20260423T063050Z
DTSTART:20250916T090000Z
DTEND:20250916T104000Z
SUMMARY:Техническая защита информации
LOCATION:ГЗ 171
END:VEVENT
BEGIN:VEVENT
UID:eh2g@192.168.245.71:3006
SEQUENCE:0
DTSTAMP:20260423T063050Z
DTSTART:20250916T110000Z
DTEND:20250916T124000Z
SUMMARY:Электроника и схемотехника
LOCATION:ГЗ 171
END:VEVENT
BEGIN:VEVENT
UID:zint@192.168.245.71:3006
SEQUENCE:0
DTSTAMP:20260423T063050Z
DTSTART:20250916T130000Z
DTEND:20250916T144000Z
SUMMARY:Электроника и схемотехника
LOCATION:ГЗ 171
END:VEVENT
BEGIN:VEVENT
UID:l0bs@192.168.245.71:3006
SEQUENCE:0
DTSTAMP:20260423T063050Z
DTSTART:20250917T070000Z
DTEND:20250917T084000Z
SUMMARY:Электроника и схемотехника
LOCATION:ГЗ 171
END:VEVENT
BEGIN:VEVENT
UID:w5rl@192.168.245.71:3006
SEQUENCE:0
DTSTAMP:20260423T063050Z
DTSTART:20250917T090000Z
DTEND:20250917T104000Z
SUMMARY:Электроника и схемотехника
LOCATION:ГЗ 171
END:VEVENT
BEGIN:VEVENT
UID:wl3e@192.168.245.71:3006
SEQUENCE:0
DTSTAMP:20260423T063050Z
DTSTART:20250918T070000Z
DTEND:20250918T084000Z
SUMMARY:Техническая защита информации
LOCATION:ГЗ 215
END:VEVENT
BEGIN:VEVENT
UID:2vp5@192.168.245.71:3006
SEQUENCE:0
DTSTAMP:20260423T063050Z
DTSTART:20250918T110000Z
DTEND:20250918T124000Z
SUMMARY:Техническая защита информации
LOCATION:ГЗ 171
END:VEVENT
BEGIN:VEVENT
UID:4j3l@192.168.245.71:3006
SEQUENCE:0
DTSTAMP:20260423T063050Z
DTSTART:20250918T130000Z
DTEND:20250918T144000Z
SUMMARY:Техническая защита информации
LOCATION:ГЗ 171
END:VEVENT
BEGIN:VEVENT
UID:hdhg@192.168.245.71:3006
SEQUENCE:0
DTSTAMP:20260423T063050Z
DTSTART:20250918T150000Z
DTEND:20250918T164000Z
SUMMARY:Инженерно-техническое обеспечение информационной безопасности
LOCATION:ГЗ 171
END:VEVENT
BEGIN:VEVENT
UID:ydb9@192.168.245.71:3006
SEQUENCE:0
DTSTAMP:20260423T063050Z
DTSTART:20250918T170000Z
DTEND:20250918T184000Z
SUMMARY:Инженерно-техническое обеспечение информационной безопасности
LOCATION:ГЗ 171
END:VEVENT
BEGIN:VEVENT
UID:l2mj@192.168.245.71:3006
SEQUENCE:0
DTSTAMP:20260423T063050Z
DTSTART:20250919T110000Z
DTEND:20250919T124000Z
SUMMARY:Техническая защита информации
LOCATION:3 к. 504
END:VEVENT
BEGIN:VEVENT
UID:i8ul@192.168.245.71:3006
SEQUENCE:0
DTSTAMP:20260423T063050Z
DTSTART:20250919T130000Z
DTEND:20250919T144000Z
SUMMARY:Техническая защита информации
LOCATION:3 к. 504
END:VEVENT
END:VCALENDAR